BEGIN:VCALENDAR
VERSION:2.0
PRODID:-//Tolna Vármegyei Kereskedelmi és Iparkamara - ECPv6.15.20//NONSGML v1.0//EN
CALSCALE:GREGORIAN
METHOD:PUBLISH
X-WR-CALNAME:Tolna Vármegyei Kereskedelmi és Iparkamara
X-ORIGINAL-URL:https://tmkik.hu
X-WR-CALDESC:Események Tolna Vármegyei Kereskedelmi és Iparkamara
REFRESH-INTERVAL;VALUE=DURATION:PT1H
X-Robots-Tag:noindex
X-PUBLISHED-TTL:PT1H
BEGIN:VTIMEZONE
TZID:UTC
BEGIN:STANDARD
TZOFFSETFROM:+0000
TZOFFSETTO:+0000
TZNAME:UTC
DTSTART:20230101T000000
END:STANDARD
END:VTIMEZONE
BEGIN:VEVENT
DTSTART;TZID=UTC:20240416T140000
DTEND;TZID=UTC:20240416T150000
DTSTAMP:20260424T055648
CREATED:20240408T102741Z
LAST-MODIFIED:20240408T110934Z
UID:3642-1713276000-1713279600@tmkik.hu
SUMMARY:Épületgépészeti ágazat üzleti közösségépítő program indul
DESCRIPTION:A Tolna Vármegyei Kereskedelmi és Iparkamara 2024. évben számos térség- és vállalkozásfejlesztéshez kapcsolódó programot indít útjára. A programok elsődleges célja egyrészt\, hogy erősítsük a kamarai jelenlétet a térségben\, legalább a korábbiakban kistérségi központokban nevesített településeken\, másrészt támogassuk és ösztönözzük a helyi/térségi üzleti közösségek létrejöttét\, kialakulását\, vagy épp erősítését! \nA vármegyei központ helyett/mellett a tanácsadási\, ismeretátadó és egyéb vállalkozások működéséhez és fejlődéséhez közvetve vagy közvetlenül kapcsolódó szolgáltatáscsomaggal jelenjük meg egyebek mellett a gazdaságilag\, társadalmilag hátrányosabb helyzetű térségekben is. \nFeladatként jelentkezik a vállalkozások közötti együttműködések elindításának támogatása\, helyi értékteremtő feladatok generálása. A találkozókkal szeretnénk elérni\, hogy a kislétszámú üzleti közösségek létrejöttével a vállalkozások inkább együtt fejlődésben gondolkozzanak a konkurenciaharc helyett\, hosszabb távon alvállalkozói\, beszállítói\, vagy akár klaszter kapcsolatok alakuljanak ki. \nCélunk\, hogy összekapcsoljuk az erre nyitott gazdasági szereplőket\, s egy – a térségben meghatározó szereplő\, cégvezető\, top menedzser bevonásával alakítsunk ki gazdasági klubokat\, csoportokat\, ahol akár a személyes/kialakuló ismeretségek révén aztán elindulhat valamiféle közös munka\, ami előreviszi/előreviheti a helyi gazdaságot a működőképes/együttműködésre képes cégek által. \nÚgy gondoljuk\, hogy az üzleti kapcsolatépítés egyik útja lehet a tervezett mentor programunk\, amelynek során szakmai közreműködő/közreműködők irányítása és koordinációja mellett a jó gyakorlatok megismerése\, gyakorlati tapasztalatok átadása valósulhat meg\, pl.: problémafelvetésre tett közös megoldás kidolgozásával\, vagy már egy korábban bevált megoldás átültetésével/átvételével\, adaptációjával. \nA tervezés során az alábbi témákat jelöltük meg kamarai szinten\, de természetesen ezek a témakörök a résztvevők igényei szerint módosíthatók\, változtathatók\, kiegészíthetők. \n\nÁrubeszerzés nehézségei\, tárolás\, készletezés kérdései\nKöltségek tervezése\, racionalizálási lehetőségek\nFenntartható gazdálkodás\nDigitalizációs megoldások a hatékonyság növelése érdekében\nMarketing és reklám\, kommunikáció kihívásai\nHumánerőforrás gazdálkodás kérdései\nMilyen forrásból fejlesszük\, finanszírozzuk vállalkozásunk?\nHumánerőforrás gazdálkodás kérdései\n\nA találkozókra havi rendszerességgel kerülne sor az érintett ágazatokban. \n\népítőipar – Tamási\nfémmegmunkálás\, gépészet\, hegesztéstechnika\, épület- és szerkezetlakatos – Dombóvár\népületgépészet – Bonyhád\n\nAz előkészítési tevékenység eredményeként az épületgépészet ágazatban 2024. április 16-án kerülne sor projektindító eseményre\, melynek helyszíne: \nBonyhád Város Önkormányzata\, 1. emeleti díszterem\, időpontja: 14:00 – 15:00 óra.  \nAz első találkozó során a bekapcsolódó cégek\, vállalkozások képviselői egy néhány perces bemutatkozáson keresztül ismerkednének meg egymással\, az általuk végzett tevékenységekkel\, nyújtott szolgáltatásokkal. A későbbiekben kamarai irányítás és koordináció mellett határoznánk meg a jövőbeli működési kereteket\, pontosításra kerülhetnek a tárgyalandó témakörök\, s véglegesítésre kerülhet egyfajta megvalósítási ütemterv is. \nHisszük és valljuk\, hogy szakmai sikereket csak közösen\, közös érdekek mentén haladva érhetünk el! Ebben mindenképp partnerként kívánunk megjelenni! \nBízunk benne\, hogy a fentiekben megfogalmazott célokkal Ön is egyetért és ezek mentén haladva lát lehetőséget a programba való aktív bekapcsolódásba\, részvételre! Jöjjön el projektindító rendezvényünkre\, legyen részese a kamara üzleti közösségfejlesztő tevékenységének\, építse\, fejlessze vállalkozását! \nA rendezvényen való részvétel díjmentes\, de előzetes regisztrációhoz kötött\, melyet alább tehet meg 2024. április 15-ig. \nRegisztráció: \n\nRészvételi/kapcsolódási szándékát 2024. április 15. munkaidő végéig küldheti meg részünkre. \n  \nAz eredményes közös munka reményében! \n  \nSzekszárd\, 2024. április 8. \n  \nÜdvözlettel és tisztelettel: \nHornok Jenő \nTérségfejlesztési koordinátor\, vállalkozásfejlesztési vezető \nTolna Vármegyei Kereskedelmi és Iparkamara
URL:https://tmkik.hu/esemenyek/epuletgepeszeti-agazat-uzleti-kozossegepito-program/
LOCATION:Bonyhád Város Önkormányzata\, Polgármesteri Hivatal\, Széchényi tér 12.\, 1. emeleti tanácsterem\, Bonyhád\, 7150\, Magyarország
CATEGORIES:Mentorprogram
ATTACH;FMTTYPE=image/jpeg:https://tmkik.hu/wp-content/uploads/2024/02/mentorprogram.jpg
END:VEVENT
BEGIN:VEVENT
DTSTART;TZID=UTC:20240410T080000
DTEND;TZID=UTC:20240410T163000
DTSTAMP:20260424T055648
CREATED:20240321T131322Z
LAST-MODIFIED:20240321T131322Z
UID:3504-1712736000-1712766600@tmkik.hu
SUMMARY:Ingyenes szakmai tanulmányút a CONSTRUMA 42. Nemzetközi Építőipari Szakkiállításra
DESCRIPTION:A Tolna Vármegyei Kereskedelmi és Iparkamara szakmai tanulmányutat szervez a CONSTRUMA 42. NEMZETKÖZI ÉPÍTŐIPARI SZAKKIÁLLÍTÁS első szakmai napjára 2024. április 10-én a HUNGEXPO Budapest Kongresszusi és Kiállítási Központba\, amelyre nagy tisztelettel hívjuk meg a Tolna vármegyei érintett vállalkozások delegált képviselőit. \nA szakkiállításon való részvételre az építőipar\, az épületgépészet és a lakberendezés területén tevékeny cégek képviselőinek jelentkezését várjuk Dombóvár és Tamási térségéből. Egy cégtől egy fő jelentkezését várjuk. (Esetlegesen a szabad férőhelyek függvényében max. 2 fő részvétele lehetséges.) \nA HUNGEXPO-ra történő közös utazást a Tolna Vármegyei Kereskedelmi és Iparkamara szervezésében indított külön busszal biztosítjuk az alábbi útvonalon: Dombóvár – Tamási – Budapest \nTervezett indulás: Dombóvár 8:00\, Tamási 8:30 \nÉrkezés a Hungexpora: 10.00 – 11.00 óra között \nHungexpo: CONSTRUMA szakkiállítás megtekintése\, szakmai programok \nTervezett indulás hazafelé 14:00 órakor. \nA szakmai tanulmányúton a részvételt\, amely tartalmazza az utazás és a belépődíj költségét\, díjmentesen biztosítjuk! \nA tanulmányútra az alább közölt jelentkezési  űrlap kitöltésével és beküldésével jelentkezhet. \nA jelentkezési határidő: 2024. április 05. \nTervezett létszám: max. 7 fő.  \nA díjmentes részvételt a jelentkezési űrlapok beérkezésének sorrendjében tudjuk biztosítani. \n  \nA szakmai tanulmányúttal kapcsolatban további információ kérhető: \nDr. Spiegler Patrícia \nkülpiaci és vállalkozásfejlesztési referens \nTel.: +36-74/411-661 122-es mellék \nE-mail: patricia@tmkik.hu \n  \nJelentkezési űrlap:\n\n  \nA program a Nemzetgazdasági Minisztérium támogatásával a VF/44/5/2023_TMKIK azonosítószámú projekt keretében valósul meg. \n \n 
URL:https://tmkik.hu/esemenyek/ingyenes-szakmai-tanulmanyut-a-construma-42-nemzetkozi-epitoipari-szakkiallitasra/
CATEGORIES:Szakkiállítások és vásárok
ATTACH;FMTTYPE=image/webp:https://tmkik.hu/wp-content/uploads/2024/03/Construma-2024-Hungexpo.png.webp
END:VEVENT
BEGIN:VEVENT
DTSTART;TZID=UTC:20240321T090000
DTEND;TZID=UTC:20240321T110000
DTSTAMP:20260424T055648
CREATED:20240311T065541Z
LAST-MODIFIED:20240311T065541Z
UID:3401-1711011600-1711018800@tmkik.hu
SUMMARY:Üzletember találkozó: Tolna vármegyei kereskedelem - raktározás - logisztika ágazatok B2B találkozója 
DESCRIPTION:A Tolna Vármegyei Kereskedelmi és Iparkamara üzletember találkozót szervez\, ahol bemutatkozási lehetőséget (kb. 5 perc időkerettel) biztosítunk a résztvevők számára. Emellett  tájékoztatást adunk a várható vállalkozásfejlesztési lehetőségekről (vissza nem térítendő/visszatérítendő támogatásokról) és a kamaránk 2024. évi további programjairól. \nA pályázatok\, a támogatott projektek szűkebb lehetőségei egyre inkább indokolják és arra ösztönzik a vállalkozásokat\, hogy a meglévő üzleti kapcsolataikat erősítsék és új partneri együttműködéseket alakítsanak ki. Kamaránk ezen a téren is szeretné támogatni a helyi vállalkozásokat. \nTolna vármegye kereskedelem\, raktározás és  logisztika ágazatokban érdekelt vállalkozásainak szeretnénk platformot biztosítani ezen az ágazati B2B találkozón. Elsősorban Tamási\, Dombóvár és Bonyhád környékéről várjuk az üzletember találkozóra az említett ágazatok szereplőit a közös gondolkodás elindítására\, de Tolna vármegye más területeiről is szívesen fogadjuk az érintett vállalkozásokat. Szeretnénk\, hogy a helyi vállalkozások képviselői helyben találkozzanak egymással és a kamara szakembereivel. Célunk a kamarai szolgáltatások bemutatásán túl az\, hogy a résztvevő helyi vállalkozások között partneri együttműködések\, beszállítói kapcsolatok jöjjenek létre\, elinduljon a kommunikáció vármegyénk vállalkozói között. \n  \nIdőpont: 2024. március 21. 9:00 \nHelyszín: Hőgyészi Művelődési Ház (7191 Hőgyész\, Kossuth tér 13.\, Kisterem) \n  \nProgram:\n08:45  Regisztráció \n09:00  Köszöntő \n09:05  Tájékoztató a vállalkozásfejlesztési lehetőségekről (vissza nem térítendő/visszatérítendő támogatásokról) és kamaránk 2024. évi programjairól. Hornok Jenő vállalkozásfejlesztési vezető és Meixner Gábor vállalkozásfejlesztési referens\, Tolna Vármegyei Kereskedelmi és Iparkamara \n09:45 Résztvevő cégek bemutatkozása \n10: 30 Kötetlen beszélgetés kávé mellett \n  \nA B2B találkozón való részvétel díjmentes\, de előzetes regisztrációhoz kötött\, melyet az alábbi űrlap kitöltésével és beküldésével tehet meg 2024. március 18. 16:00-ig. \nJelentkezési űrlap:\n\n  \n  \nA program a Nemzetgazdasági Minisztérium támogatásával a VF/44/5/2023_TMKIK azonosítószámú projekt keretében valósul meg. \n 
URL:https://tmkik.hu/esemenyek/uzletember-talalkozo-tolna-varmegyei-kereskedelem-raktarozas-logisztika-agazatok-b2b-talalkozoja/
LOCATION:Hőgyészi Művelődési Ház\, Kossuth tér 13.\, Kisterem\, Hőgyész\, 7191\, Magyarország
CATEGORIES:B2B találkozók
ATTACH;FMTTYPE=image/jpeg:https://tmkik.hu/wp-content/uploads/2024/03/uzletember-talalkozo.jpg
END:VEVENT
BEGIN:VEVENT
DTSTART;TZID=UTC:20240320T090000
DTEND;TZID=UTC:20240320T110000
DTSTAMP:20260424T055648
CREATED:20240311T065130Z
LAST-MODIFIED:20240311T065130Z
UID:3399-1710925200-1710932400@tmkik.hu
SUMMARY:Felkészülés a környezetvédelmi kötelezettségekre – Szakmai nap Bonyhádon
DESCRIPTION:A Tolna Vármegyei Kereskedelmi és Iparkamara szakmai napokat szervez az új hulladék visszaváltási rendszer\, a környezetvédelmi felelősségbiztosítás és ESG – fenntartható vállalkozásműködtetés témakörökben! \nA Tolna Vármegyei Mérnökkamara környezetvédelmi szakértőjének együttműködésével szeretnénk információt nyújtani a MOHU MOL Zrt új visszaváltási rendszeréről\, az önkéntes bekapcsolódási lehetőségről. \nIsmét szót ejtünk a környezetvédelmi felelősségbiztosítási kötelezettségről\, biztosítási szakértők segítségével tekintjük át a feladatokat\, lehetőségeket. Tapasztalataink szerint számos hazai vállalkozás nincs is tisztában az érintettségével\, pedig a kötelezettség 2024. január 1-től már életbe lépett. \nAz ESG\, mint fenntartható vállalkozásszervezés és irányítás a jövő egyik kihívása lehet\, érdemes erre időben felkészülnünk. \n  \nIdőpont – Helyszín\n2024. március 20. 9:00\, Bonyhád \nBonyhád Város Önkormányzata (7150 Bonyhád\, Széchenyi tér 12.\, 1. emeleti tanácsterem) \n  \nProgram\n08:45  Regisztráció \n09:00  Köszöntő \n09:05  Előadás: \nHogyan fog működni a kötelező visszaváltási rendszer? \nKinek és miért kell környezetvédelmi felelősségbiztosítást kötnie? \nMi is az az ESG-rendszer\, mit jelent a fenntartható vállalkozásszervezés és irányítás? \nBaloghné Gaál Zsófia\, Tolna Vármegyei Mérnöki Kamara Környezetvédelmi Szakcsoport\, elnök \n10:35  Konzultáció a Generali Biztosító Zrt. és a Groupama Biztosító Zrt. jelenlévő szakértőivel \n   \nA rendezvényen való részvétel díjmentes\, de előzetes regisztrációhoz kötött\, melyet az alábbi űrlap kitöltésével és beküldésével tehet meg 2024. március 14. 16:00-ig. \nJelentkezési űrlap:\n\n  \n  \nA program a Nemzetgazdasági Minisztérium támogatásával a VF/44/5/2023_TMKIK azonosítószámú projekt keretében valósul meg. \n 
URL:https://tmkik.hu/esemenyek/felkeszules-a-kornyezetvedelmi-kotelezettsegekre-szakmai-nap-bonyhadon/
LOCATION:Bonyhád Város Önkormányzata\, Polgármesteri Hivatal\, Széchényi tér 12.\, 1. emeleti tanácsterem\, Bonyhád\, 7150\, Magyarország
CATEGORIES:Tájékoztató fórumok
ATTACH;FMTTYPE=image/jpeg:https://tmkik.hu/wp-content/uploads/2024/03/kornyezetvedelem-kotelezettsegek-felkeszules.jpg
END:VEVENT
BEGIN:VEVENT
DTSTART;TZID=UTC:20240319T090000
DTEND;TZID=UTC:20240319T110000
DTSTAMP:20260424T055648
CREATED:20240311T064636Z
LAST-MODIFIED:20240311T064636Z
UID:3396-1710838800-1710846000@tmkik.hu
SUMMARY:Felkészülés a környezetvédelmi kötelezettségekre – Szakmai nap Dombóváron
DESCRIPTION:A Tolna Vármegyei Kereskedelmi és Iparkamara szakmai napokat szervez az új hulladék visszaváltási rendszer\, a környezetvédelmi felelősségbiztosítás és ESG – fenntartható vállalkozásműködtetés témakörökben! \nA Tolna Vármegyei Mérnökkamara környezetvédelmi szakértőjének együttműködésével szeretnénk információt nyújtani a MOHU MOL Zrt új visszaváltási rendszeréről\, az önkéntes bekapcsolódási lehetőségről. \nIsmét szót ejtünk a környezetvédelmi felelősségbiztosítási kötelezettségről\, biztosítási szakértők segítségével tekintjük át a feladatokat\, lehetőségeket. Tapasztalataink szerint számos hazai vállalkozás nincs is tisztában az érintettségével\, pedig a kötelezettség 2024. január 1-től már életbe lépett. \nAz ESG\, mint fenntartható vállalkozásszervezés és irányítás a jövő egyik kihívása lehet\, érdemes erre időben felkészülnünk. \n  \nIdőpont – Helyszín\n2024. március 19. 9:00\, Dombóvár  \nFregatt Étterem\, 7200 Dombóvár\, Köztársaság út 31/C. (MOL Benzinkút mellett) \n  \nProgram\n08:45  Regisztráció \n09:00  Köszöntő \n09:05  Előadás: \nHogyan fog működni a kötelező visszaváltási rendszer? \nKinek és miért kell környezetvédelmi felelősségbiztosítást kötnie? \nMi is az az ESG-rendszer\, mit jelent a fenntartható vállalkozásszervezés és irányítás? \nBaloghné Gaál Zsófia\, Tolna Vármegyei Mérnöki Kamara Környezetvédelmi Szakcsoport\, elnök \n10:35  Konzultáció a Generali Biztosító Zrt. és a Groupama Biztosító Zrt. jelenlévő szakértőivel \n   \nA rendezvényen való részvétel díjmentes\, de előzetes regisztrációhoz kötött\, melyet az alábbi űrlap kitöltésével és beküldésével tehet meg 2024. március 14. 16:00-ig. \nJelentkezési űrlap:\n\n  \n  \nA program a Nemzetgazdasági Minisztérium támogatásával a VF/44/5/2023_TMKIK azonosítószámú projekt keretében valósul meg. \n 
URL:https://tmkik.hu/esemenyek/felkeszules-a-kornyezetvedelmi-kotelezettsegekre-szakmai-nap-dombovaron/
LOCATION:Fregatt Bistro\, Dombóvár\, Köztársaság út 31/C.\, Dombóvár\, 7200
CATEGORIES:Tájékoztató fórumok
ATTACH;FMTTYPE=image/jpeg:https://tmkik.hu/wp-content/uploads/2024/03/kornyezetvedelem-kotelezettsegek-felkeszules.jpg
END:VEVENT
BEGIN:VEVENT
DTSTART;TZID=UTC:20240318T090000
DTEND;TZID=UTC:20240318T110000
DTSTAMP:20260424T055648
CREATED:20240311T064226Z
LAST-MODIFIED:20240311T064246Z
UID:3392-1710752400-1710759600@tmkik.hu
SUMMARY:Felkészülés a környezetvédelmi kötelezettségekre - Szakmai nap Tamásiban
DESCRIPTION:A Tolna Vármegyei Kereskedelmi és Iparkamara szakmai napokat szervez az új hulladék visszaváltási rendszer\, a környezetvédelmi felelősségbiztosítás és ESG – fenntartható vállalkozásműködtetés témakörökben! \nA Tolna Vármegyei Mérnökkamara környezetvédelmi szakértőjének együttműködésével szeretnénk információt nyújtani a MOHU MOL Zrt új visszaváltási rendszeréről\, az önkéntes bekapcsolódási lehetőségről. \nIsmét szót ejtünk a környezetvédelmi felelősségbiztosítási kötelezettségről\, biztosítási szakértők segítségével tekintjük át a feladatokat\, lehetőségeket. Tapasztalataink szerint számos hazai vállalkozás nincs is tisztában az érintettségével\, pedig a kötelezettség 2024. január 1-től már életbe lépett. \nAz ESG\, mint fenntartható vállalkozásszervezés és irányítás a jövő egyik kihívása lehet\, érdemes erre időben felkészülnünk. \n  \nIdőpont – Helyszín\n2024. március 18. 9:00\, Tamási \nZöldpont és Civil Ház\, 7090 Tamási\, Deák Ferenc u. 43. \n  \nProgram\n08:45  Regisztráció \n09:00  Köszöntő  \n09:05  Előadás:  \nHogyan fog működni a kötelező visszaváltási rendszer? \nKinek és miért kell környezetvédelmi felelősségbiztosítást kötnie? \nMi is az az ESG-rendszer\, mit jelent a fenntartható vállalkozásszervezés és irányítás? \nBaloghné Gaál Zsófia\, Tolna Vármegyei Mérnöki Kamara Környezetvédelmi Szakcsoport\, elnök \n10:35  Konzultáció a Generali Biztosító Zrt. és a Groupama Biztosító Zrt. jelenlévő szakértőivel \n   \nA rendezvényen való részvétel díjmentes\, de előzetes regisztrációhoz kötött\, melyet az alábbi űrlap kitöltésével és beküldésével tehet meg 2024. március 14. 16:00-ig. \nJelentkezési űrlap:\n\n  \n  \nA program a Nemzetgazdasági Minisztérium támogatásával a VF/44/5/2023_TMKIK azonosítószámú projekt keretében valósul meg. \n 
URL:https://tmkik.hu/esemenyek/felkeszules-a-kornyezetvedelmi-kotelezettsegekre-szakmai-nap-tamasiban/
LOCATION:Zöldpont és Civil Ház\, Tamási\, Deák Ferenc u. 43.\, Tamási\, Tolna Vármegye\, 7090\, Magyarország
CATEGORIES:Tájékoztató fórumok
ATTACH;FMTTYPE=image/jpeg:https://tmkik.hu/wp-content/uploads/2024/03/kornyezetvedelem-kotelezettsegek-felkeszules.jpg
END:VEVENT
BEGIN:VEVENT
DTSTART;VALUE=DATE:20240305
DTEND;VALUE=DATE:20240306
DTSTAMP:20260424T055648
CREATED:20240227T081933Z
LAST-MODIFIED:20240227T081933Z
UID:3269-1709596800-1709683199@tmkik.hu
SUMMARY:Ingyenes szakmai kirándulás a SIRHA Budapest szakkiállításra
DESCRIPTION:A Tolna Vármegyei Kereskedelmi és Iparkamara szakmai tanulmányutat szervez a SIRHA Budapest\, Közép-Kelet Európa legjelentősebb nemzetközi élelmiszeripari és HoReCa szakkiállításának első szakmai napjára 2024. március 5-én a HUNGEXPO Budapest Kongresszusi és Kiállítási Központba\, amelyre nagy tisztelettel hívjuk meg a Tolna vármegyei érintett vállalkozások delegált képviselőit. \nA szakkiállításon való részvétel vendéglátóipari cégek képviselői számára díjmentes\, de szakmai regisztrációhoz kötött\, azonban ezt elvégezzük Ön helyett az alábbi jelentkezési űrlap alapján! Kérjük tehát annak pontos kitöltését és határidőben történő beküldését! \nA HUNGEXPO-ra történő közös utazást a Tolna Vármegyei Kereskedelmi és Iparkamara szervezésében indított külön busszal biztosítjuk Szekszárd – Bonyhád – Dombóvár – Tamási – Budapest útvonalon. \nTervezett indulások/felszállások időpontjai a jelentkezői kör függvényében kerülnek pontosításra\, az utazás részleteit a későbbiekben küldjük meg a jelentkezőknek. \nAz alábbi időpontok tájékoztató jellegűek: \nFelszállás: Szekszárd 6:30\, Bonyhád 7:00\, Dombóvár 7:45\, Tamási 8:20 \nÉrkezés a Hungexpora: 10.30 – 11.00 óra között \nHungexpo: szakkiállítás megtekintése\, szakmai programok \nTervezett indulás hazafelé 14:00 óra körül. \nA szakmai tanulmányúton a részvételt díjmentesen biztosítjuk\, amire az alább közölt jelentkezési  űrlap kitöltésével és beküldésével jelentkezhet. A jelentkezési határidő: 2024. február 28.! \nTervezett létszám: max. 40 fő\, a díjmentes részvételt a jelentkezési űrlapok beérkezésének sorrendjében tudjuk biztosítani. \nA szakmai tanulmányúttal kapcsolatban további információ kérhető: \nDr. Spiegler Patrícia \nkülpiaci és vállalkozásfejlesztési referens \nTel.: +36-74/411-661 122-es mellék \nE-mail: patricia@tmkik.hu \nJelentkezési űrlap:\n\n  \n  \nA program a Nemzetgazdasági Minisztérium támogatásával a VF/44/5/2023_TMKIK azonosítószámú projekt keretében valósul meg.
URL:https://tmkik.hu/esemenyek/ingyenes-szakmai-kirandulas-a-sirha-budapest-szakkiallitasra/
CATEGORIES:Szakkiállítások és vásárok
ATTACH;FMTTYPE=image/jpeg:https://tmkik.hu/wp-content/uploads/2024/02/sirha.jpg
END:VEVENT
BEGIN:VEVENT
DTSTART;TZID=UTC:20240229T090000
DTEND;TZID=UTC:20240229T110000
DTSTAMP:20260424T055648
CREATED:20240226T085905Z
LAST-MODIFIED:20240508T084255Z
UID:3204-1709197200-1709204400@tmkik.hu
SUMMARY:Környezetvédelmi felelősségbiztosítás szakmai nap Bonyhádon
DESCRIPTION:A Tolna Vármegyei Kereskedelmi és Iparkamara szakmai napot szervez a Környezetvédelmi felelősségbiztosítás és az Egészségbiztosítás\, mint a dolgozói elköteleződés növelésének eszköze témakörökben! \nA Tolna Vármegyei Mérnökkamara és biztosítási szakértők együttműködésével szeretnénk segítséget nyújtani az új környezetvédelmi felelősségbiztosítási kötelezettség tekintetében\, hisz 2024. január 1-től új szabályozás lépett életbe. Tapasztalataink szerint számos hazai vállalkozás nincs is tisztában érintettségével. \nA szakmai nap második témaköre a munkavállalói egészségbiztosítás. A munkavállaló érték\, a munkaadói és munkavállalói oldal közös érdeke\, hogy a munkavégzés megfelelő körülmények között\, megfelelő egészségi állapotban valósuljon meg! \n  \nIdőpontja:        2024. február 29. (csütörtök) 9:00 óra \nHelye:              Bonyhád Város Önkormányzata\, Polgármesteri Hivatal \n                        7150 Bonyhád\, Széchényi tér 12.\, 1. emeleti tanácsterem \nProgram \n08:45          Regisztráció \n09:00          Köszöntők \n09:05          Előadás: Kinek és miért kell környezetvédelmi felelősségbiztosítást kötnie? \n                   Baloghné Gaál Zsófia\, Tolna Vármegyei Mérnöki Kamara Környezetvédelmi Szakcsoport\, elnök \n09:35          Előadás: Környezetvédelmi felelősségbiztosítás biztosítói oldalról. \n                   Kovács Bettina\, Generali Biztosító Zrt.  \n10:10          Előadás: A munkavállaló érték – munkáltatói lehetőségek az egészségmegőrzés érdekében. \n                   Molnár Csaba\, Generali Biztosító Zrt. \n10:40          Konzultáció a Generali Biztosító Zrt. és a Groupama Biztosító Zrt. jelenlévő szakértőivel \n  \nA rendezvényen való részvétel díjmentes\, de előzetes regisztrációhoz kötött\, melyet az alábbi űrlap kitöltésével és beküldésével tehet meg. \nJelentkezési űrlap:\n\n  \n  \nA program a Nemzetgazdasági Minisztérium támogatásával a VF/44/5/2023_TMKIK azonosítószámú projekt keretében valósul meg. \n  \n 
URL:https://tmkik.hu/esemenyek/kornyezetvedelmi-felelossegbiztositas-szakmai-nap/
LOCATION:Bonyhád Város Önkormányzata\, Polgármesteri Hivatal\, Széchényi tér 12.\, 1. emeleti tanácsterem\, Bonyhád\, 7150\, Magyarország
CATEGORIES:Tájékoztató fórumok
ATTACH;FMTTYPE=image/jpeg:https://tmkik.hu/wp-content/uploads/2024/02/kornyvedelmi-szakmai-nap.jpg
END:VEVENT
END:VCALENDAR