BEGIN:VCALENDAR
VERSION:2.0
PRODID:-//Tolna Vármegyei Kereskedelmi és Iparkamara - ECPv6.15.20//NONSGML v1.0//EN
CALSCALE:GREGORIAN
METHOD:PUBLISH
X-ORIGINAL-URL:https://tmkik.hu
X-WR-CALDESC:Események Tolna Vármegyei Kereskedelmi és Iparkamara
REFRESH-INTERVAL;VALUE=DURATION:PT1H
X-Robots-Tag:noindex
X-PUBLISHED-TTL:PT1H
BEGIN:VTIMEZONE
TZID:Europe/Paris
BEGIN:DAYLIGHT
TZOFFSETFROM:+0100
TZOFFSETTO:+0200
TZNAME:CEST
DTSTART:20250330T010000
END:DAYLIGHT
BEGIN:STANDARD
TZOFFSETFROM:+0200
TZOFFSETTO:+0100
TZNAME:CET
DTSTART:20251026T010000
END:STANDARD
BEGIN:DAYLIGHT
TZOFFSETFROM:+0100
TZOFFSETTO:+0200
TZNAME:CEST
DTSTART:20260329T010000
END:DAYLIGHT
BEGIN:STANDARD
TZOFFSETFROM:+0200
TZOFFSETTO:+0100
TZNAME:CET
DTSTART:20261025T010000
END:STANDARD
BEGIN:DAYLIGHT
TZOFFSETFROM:+0100
TZOFFSETTO:+0200
TZNAME:CEST
DTSTART:20270328T010000
END:DAYLIGHT
BEGIN:STANDARD
TZOFFSETFROM:+0200
TZOFFSETTO:+0100
TZNAME:CET
DTSTART:20271031T010000
END:STANDARD
END:VTIMEZONE
BEGIN:VEVENT
DTSTART;TZID=Europe/Paris:20260505T110000
DTEND;TZID=Europe/Paris:20260505T170000
DTSTAMP:20260422T164854
CREATED:20260420T130612Z
LAST-MODIFIED:20260420T130638Z
UID:11418-1777978800-1778000400@tmkik.hu
SUMMARY:MedX Düsseldorf @ MEDICA lehetőség start-upoknak - WEBINÁR
DESCRIPTION:ZENIT GmbH lädt Sie zu einem geplanten Zoom-Meeting ein. \nThema: MedX Düsseldorf @ MEDICA \nZeit: 5. Mai 2026 11:00 Amsterdam\, Berlin\, Rom\, Stockholm\, Wien \nAn Zoom-Meeting teilnehmen \nhttps://us02web.zoom.us/j/89031469731?pwd=UbJGfZwhJC5A8MdmkGNqAxR2V4f3Po.1 \nMeeting-ID: 890 3146 9731 \nKenncode: 834087 \n  \nWith MedX\, the City of Düsseldorf will select 8–10 health start-ups to join MEDICA in November – one of the world’s leading healthcare trade fairs. \nWhat’s in it for the start-ups? \nA dedicated presentation space at MEDICA \nDirect pitching opportunities in front of industry players \nInvitations to curated side events \nTargeted contacts to corporates such as Henkel\, Boston Scientific\, Qiagen and many more in Düsseldorf’s health ecosystem \n  \nTo explain the program\, the application process and the pitching format\, we are offering a short webinar with the main organizer from the City of Düsseldorf: \n  \n🗓 May 5 \n⏰ 11:00 (CEST) \n🎙 Organizer City of Düsseldorf & NRW.Europa \n💬 Open Q&A – feel free to bring interested clients \n  \nIf you’d like to take part\, please send a short email to: \njustus.schuenemann@nrwbank.de \n  \nYou can find further information on MedX Challenge here: \nhttps://www.duesseldorf.de/int/office-of-economic-development/business/start-up-support/medx
URL:https://tmkik.hu/esemenyek/medx-dusseldorf-medica-lehetoseg-start-upoknak-webinar/
END:VEVENT
END:VCALENDAR