BEGIN:VCALENDAR
VERSION:2.0
PRODID:-//Tolna Vármegyei Kereskedelmi és Iparkamara - ECPv6.15.20//NONSGML v1.0//EN
CALSCALE:GREGORIAN
METHOD:PUBLISH
X-WR-CALNAME:Tolna Vármegyei Kereskedelmi és Iparkamara
X-ORIGINAL-URL:https://tmkik.hu
X-WR-CALDESC:Események Tolna Vármegyei Kereskedelmi és Iparkamara
REFRESH-INTERVAL;VALUE=DURATION:PT1H
X-Robots-Tag:noindex
X-PUBLISHED-TTL:PT1H
BEGIN:VTIMEZONE
TZID:Europe/Paris
BEGIN:DAYLIGHT
TZOFFSETFROM:+0100
TZOFFSETTO:+0200
TZNAME:CEST
DTSTART:20240331T010000
END:DAYLIGHT
BEGIN:STANDARD
TZOFFSETFROM:+0200
TZOFFSETTO:+0100
TZNAME:CET
DTSTART:20241027T010000
END:STANDARD
BEGIN:DAYLIGHT
TZOFFSETFROM:+0100
TZOFFSETTO:+0200
TZNAME:CEST
DTSTART:20250330T010000
END:DAYLIGHT
BEGIN:STANDARD
TZOFFSETFROM:+0200
TZOFFSETTO:+0100
TZNAME:CET
DTSTART:20251026T010000
END:STANDARD
BEGIN:DAYLIGHT
TZOFFSETFROM:+0100
TZOFFSETTO:+0200
TZNAME:CEST
DTSTART:20260329T010000
END:DAYLIGHT
BEGIN:STANDARD
TZOFFSETFROM:+0200
TZOFFSETTO:+0100
TZNAME:CET
DTSTART:20261025T010000
END:STANDARD
END:VTIMEZONE
BEGIN:VEVENT
DTSTART;TZID=Europe/Paris:20250904T090000
DTEND;TZID=Europe/Paris:20250904T123000
DTSTAMP:20260423T171004
CREATED:20250819T115704Z
LAST-MODIFIED:20251121T065112Z
UID:8514-1756976400-1756989000@tmkik.hu
SUMMARY:„AI – A vállalkozásod új munkatársa” - Workshop kisvállalkozásoknak
DESCRIPTION:„AI – A vállalkozásod új munkatársa”\nIsmételten meghirdetjük AI workshopunkat Szekszárdon | 2025. szeptember 4.\nAz augusztusi workshopunk nagy sikert aratott – telt házas volt\, és a résztvevők tapasztalatai igazolták: az AI valóban remek „segítőtárs” lehet a vállalkozások mindennapjaiban. \nA lelkes fogadtatás nyomán újabb lehetőséget kínálunk azoknak\, akik lemaradtak és szeretnének átélni egy gyakorlatias AI-bevezetést. \nA workshop kimondottan kezdőknek szól\, azoknak\, akik még nem használták a mesterséges intelligenciát\, vagy már tettek egy próbát vele\, de nem tudták\, hogyan érdemes belevágni. \n\nMiért érdemes részt venni?\n\nValódi gyakorlati élmény: Részvevőink tapasztalatai szerint az AI valóban „egy könyvtárba zárt szuperember”\, aki időt spórol és kreatív ötleteket ad – ha tudjuk\, hogyan kérdezzünk tőle.\nInteraktív és élményorientált: A workshop kiscsoportos\, közvetlen\, tele aktív feladatokkal – többek között Insta-poszt\, hivatalos levél és képgenerálás kipróbálása is szerepel a programban.\nMindenki számára nyitott: Nincs szükség informatikai előképzettségre – elég a nyitottság és az érdeklődés. A mesterséges intelligenciát egyszerű használni. Ez a workshop éppen ezt szeretné bebizonyítani.\n\n\nTémák\, amikre számíthatnak a résztvevők:\n\nAmúgy mi is ez a mesterséges intelligencia? És hogyan lehet a hasznára egy kisvállalkozásnak?\nChat GPT? Gemini? Claude? Grok? Mik is ezek? És mire jók?\nAz AI használatának egyetlen titka van\, egyetlen szó. Ez a szó pedig a…\nNálatok is mumus a marketing? Mi lenne\, ha az AI besegítene?\nHogyan segíts az AI-nak\, hogy segíthessen Neked?\nNem beszélsz jogászul\, pénzügyesül\, orvosul\, informatikusul? Majd az AI tolmácsol!\nHogyan írja meg helyetted az AI az árajánlatot\, a szerződést\, a pályázatot\, a nemszeretem e-maileket?\nMire képes az AI\, ha Facebook- vagy Insta-posztokat kell készíteni?\nHogyan hozhatsz létre képeket mesterséges intelligencia segítségével?\nTényleg elég 15 perc egy szakkönyv lényegének megértéséhez? Az AI segítségével még ez lehetséges.\n\n\n„AI – A vállalkozásod új munkatársa”\nWorkshop kis- és középvállalkozásoknak\nIdőpont: 2025. szeptember 4.\, 09:00–12:30 \nHelyszín: Szekszárd\, TMKIK oktatóterem (7100 Szekszárd\, Arany János utca 23-25.\, 3. emelet) \nElőadók: Marits István (informatikai szakértő) és Szabó Gábor (kommunikációs szakértő) \n\nRészvétel ingyenes\, de regisztrációhoz kötött!\n\nKis létszám\, személyre szabott figyelem\nAktív részvételhez szükséges: saját laptop vagy tablet + Gmail-fiók (ha nincs\, segítünk regisztrálni)\n\n\nNe maradjon le – jelentkezzen most!\nFedezze fel\, milyen egyszerűen lehet az AI a vállalkozása új „munkatársa” – a gyakorlatban\, kézzelfogható eredményekkel. \nA szeptemberi workshopra is nagy érdeklődésre számítunk\, ezért regisztráljon mielőbb! \nBízunk benne\, hogy most Ön is részese lehet ennek az inspiráló eseménynek\, ahol az AI nem jövő\, hanem hatékony segítség a jelenben. \nRegisztráció:\n \n\n  \nA program a Nemzetgazdasági Minisztérium támogatásával a NGM_SZERZ/173/3/2024_TMKIK/1 azonosítószámú projekt keretében valósul meg.
URL:https://tmkik.hu/esemenyek/ai-workshop-kisvallalkozasoknak/
LOCATION:Tolna Vármegyei Kereskedelmi és Iparkamara\, oktatóterem\, Arany János u. 23-25.\, III. emelet\, Szekszárd\, 7100\, Magyarország
CATEGORIES:Workshop
ATTACH;FMTTYPE=image/jpeg:https://tmkik.hu/wp-content/uploads/2025/08/ai-workshop-25-09-04-kep.jpg
END:VEVENT
BEGIN:VEVENT
DTSTART;TZID=Europe/Paris:20250910T100000
DTEND;TZID=Europe/Paris:20250910T130000
DTSTAMP:20260423T171004
CREATED:20250904T113854Z
LAST-MODIFIED:20250904T113854Z
UID:8605-1757498400-1757509200@tmkik.hu
SUMMARY:MI most! – Mesterséges intelligencia a szakképzés és a vállalati innováció szolgálatában
DESCRIPTION:Korunk egyik legnagyobb kihívására\, a mesterséges intelligencia térnyerésére reagálva a Tolna Vármegyei Kereskedelmi és Iparkamara a Tolna Vármegyei Szakképzési Centrummal együttműködésben országos konferenciát szervez „MI most! – Mesterséges intelligencia a szakképzés és a vállalati innováció szolgálatában” címmel. \nA rendezvény célja\, hogy a szakképzésben érintett közép- és felsőfokú oktatási intézmények\, valamint a vállalkozói és vállalati szféra képviselői számára bemutassuk a mesterséges intelligencia alkalmazásának lehetőségeit. Kiemelt figyelmet fordítunk arra\, hogy miként válhat az MI az oktatás és az üzleti folyamatok integrált részévé\, hozzájárulva a versenyképesség növeléséhez. \n  \n„MI most! – Mesterséges intelligencia a szakképzés és a vállalati innováció szolgálatában”  \nSzervezők: Tolna Vármegyei Kereskedelmi és Iparkamara és Tolna Vármegyei Szakképzési Centrum \nHelyszín: Babits Mihály Kulturális Központ\, Szekszárd \nIdőpont: 2025. szeptember 10. (szerda)\, 10:00–13:00 \n  \nA konferencia tervzett programja:  \n10:00 – Köszöntők \n10:20 – A mesterséges intelligenciában rejlő lehetőségek \nElőadó: Dr. Palkovics László mesterséges intelligenciáért felelős kormánybiztos avatárja \n10:45 – Kockázatból lehetőség – hogyan írja át az AI a KKV-k jövőjét? \nElőadó: Dr. Balog Ádám\, a Magyar Kereskedelmi és Iparkamara alelnöke\, az MI Koalíció elnökségi tagja \n11:10 – Lehetőségek\, megoldások a szakképzésben a mesterséges intelligencia alkalmazására \nElőadó: Kiss Gábor\, a Szakképzési Innovációs Tanács – Mesterséges intelligencia az ember szolgálatában munkacsoport vezetője\, a Miskolci Szakképzési Centrum kancellárja \n11:35 – MIre érett a cégem? – Mesterséges intelligencia érettségi modellekre épülő stratégiai útmutató KKV-knak \nElőadó: Dr. Abonyi János\, a Pannon Egyetem rektora \n12:00 – Az MI mint a vállalkozások alapvető erőforrása \nElőadó: Koltányi Gergely\, digitális képzési szakértő \n12:25 – Kötetlen beszélgetés\, kapcsolatépítési lehetőség \n  \nRészvételi szándékát kérjük\, jelezze előzetesen 2025. szeptember 9. 12.00 óráig az alábbi űrlap kitöltésével: \n\n 
URL:https://tmkik.hu/esemenyek/mi-most-mesterseges-intelligencia-a-szakkepzes-es-a-vallalati-innovacio-szolgalataban/
LOCATION:Babits Mihály Kulturális Központ\, Szent István tér 10\, Szekszárd\, 7100\, Hungary
CATEGORIES:Konferencia
ATTACH;FMTTYPE=image/png:https://tmkik.hu/wp-content/uploads/2025/08/mi-most-konferencia-25-09-10-kep.png
END:VEVENT
BEGIN:VEVENT
DTSTART;TZID=Europe/Paris:20250917T100000
DTEND;TZID=Europe/Paris:20250917T120000
DTSTAMP:20260423T171004
CREATED:20250908T124404Z
LAST-MODIFIED:20251121T065028Z
UID:8663-1758103200-1758110400@tmkik.hu
SUMMARY:B2B üzleti találkozó - Téma: AI a marketingben\, egyszerűen és hatékonyan
DESCRIPTION:Szeretné tudni\, hogyan teheti hatékonyabbá vállalkozása marketingjét a Mesterséges Intelligencia segítségével?\nCsatlakozzon hozzánk szeptember 17-én Dunaföldváron egy inspiráló üzleti találkozóra\, ahol ezúttal az AI a marketingben lesz a témánk!\nA rendezvény során nemcsak a Mesterséges Intelligencia gyakorlati alkalmazásáról tanulhat\, hanem lehetősége nyílik arra is\, hogy bemutassa saját vállalkozását és új üzleti kapcsolatokat építsen ki a vármegye vállalkozóival. \nEz a program Önnek szól\, ha:\n\nszeretne hatékonyabb marketinget\, de nincs rá ideje vagy nagy költségvetése\,\nkíváncsi az AI gyakorlati alkalmazására\, bonyolult technikai magyarázatok nélkül\,\nszeretne új üzleti kapcsolatokat kialakítani hasonló gondolkodású vállalkozókkal\,\nkonkrét eszközöket és módszereket keres\, amiket akár már másnap kipróbálhat.\n\nMit kap a rendezvényen?\n\nÉrthető AI marketing alapok – szakzsargon nélkül\nKonkrét eszközök – bemutató és tippek a használathoz\nAzonnal bevethető technikák – már aznap kipróbálhatók\nSzemélyes tanácsadás – a kötetlen beszélgetésben kérdezhet is a szakértőtől\nÚj üzleti kapcsolatok – találkozhat új ügyfelekkel\, partnerekkel\, beszállítókkal\n\nHogyan zajlik az üzleti találkozó?\nAz üzleti találkozón a vállalkozások fejlesztésében alkalmazható gyakorlatias\, interaktív előadás után a részvevők pár percben bemutatják a vállalkozásukat a többi résztvevőnek\, majd a program további részében a kötetlen beszélgetéshez\, új kapcsolatok építéshez biztosítunk teret kávé és pogácsa mellett. \nA rendezvény programja:\nIdőpont: 2025. szeptember 17. szerda 10:00 – 12:00 óra között \nHelyszín: Dunaföldvár\, Ispánház (7020 Dunaföldvár\, Rátkay köz 2.) \nProgram \n09:45  Érkezés – Regisztráció \n10:00  Rövid köszöntő \n10:05  AI a marketingben: egyszerűen és hatékonyan \nElőadó: Válóczi Károly marketing és üzleti tervező – kivitelező\, aki olyan szakember\, aki érti a vállalkozói kihívásokat és praktikus megoldásokat kínál. Nem technikai zsargonnal\, hanem érthetően magyarázza el\, hogyan használhatja az AI-t eredményesen a marketingjében. \n11:05  Résztvevő cégek bemutatkozása – KAPCSOLATÉPÍTÉS \n11:30  Kötetlen beszélgetés\, kapcsolatépítés kávé és pogácsa mellett     \n                 \nA kapcsolatépítő találkozón való részvétel díjmentes\, csak előzetes regisztrációhoz kötött.  \nRegisztrálni az alábbi űrlap kitöltésével és beküldésével tud 2025. szeptember 16. 12:00 óráig. \nMár most írja be a naptárába\, ne hagyja ki a találkozót! Az AI nem a jövő\, hanem a jelen. Azok a vállalkozók\, akik most kezdik el használni ezeket az eszközöket\, jelentős versenyelőnyre tesznek szert. \nSzeretettel várjuk Önt is\, regisztráljon most!\n\n  \n  \nA program a Nemzetgazdasági Minisztérium támogatásával a NGM_SZERZ/173/3/2024_TMKIK/1 azonosítószámú projekt keretében valósul meg.
URL:https://tmkik.hu/esemenyek/b2b-uzleti-talalkozo-tema-ai-a-marketingben/
LOCATION:Dunaföldvár\, Ispánház\, Rátkay köz 2.\, Dunaföldvár\, 7020\, Hungary
CATEGORIES:B2B találkozók
ATTACH;FMTTYPE=image/png:https://tmkik.hu/wp-content/uploads/2025/09/ai-marketing-b2b-0917-e1757916736741.png
END:VEVENT
BEGIN:VEVENT
DTSTART;TZID=Europe/Paris:20250924T170000
DTEND;TZID=Europe/Paris:20250924T180000
DTSTAMP:20260423T171004
CREATED:20250916T084123Z
LAST-MODIFIED:20251121T065008Z
UID:8779-1758733200-1758736800@tmkik.hu
SUMMARY:Mitől működnek jól a Google hirdetések? – Marketing Klub Szekszárdon
DESCRIPTION:A Google Ads (korábbi ismert nevén Adwords) hirdetések mára az egyik legerősebb online ügyfélszerző eszközzé váltak. Segítségükkel pontosan akkor és ott érheti el leendő ügyfeleit\, amikor éppen az Ön termékét vagy szolgáltatását keresik. Egy jól felépített Google-kampány versenyelőnyt\, mérhető eredményeket és tudatos marketinget ad a vállalkozása kezébe – de csak akkor\, ha megfelelően használja. \nA Tolna Vármegyei Kereskedelmi és Iparkamara Marketing Klubjának szeptemberi találkozóján gyakorlatban mutatjuk meg\, hogyan működnek a Google hirdetések: \n\nmikor érdemes alkalmazni őket\,\nmelyik kampánytípus mire jó\,\nhogyan illeszkednek az ügyfélszerzés teljes rendszerébe\,\n\n– mindezt barátságos\, közvetlen\, szakmai közegben! \nMiért érdemes eljönnie?\n\nTiszta képet kap arról\, hogy az Ön vállalkozásánál jó megoldás-e a Google Ads\nMegérti a kapcsolatot a Google hirdetések és egyéb marketing tevékenységei között\nKonkrét lépéseket kap a saját helyzetére\nElkerüli a gyakori hibákat\, amelyek pénzt emészthetnek fel\nKapcsolatokat építhet hasonló gondolkodású vállalkozókkal\nSzemélyre szabott tanácsokat kap\n\nKit várunk a Marketing Klubba?\n\nTolna vármegyei vállalkozókat – iparágtól és vállalkozás méretétől függetlenül\nKezdő vállalkozókat\, akik szeretnék megérteni a Google hirdetések alapjait\nTapasztalt vállalkozókat\, akik újragondolnák hirdetési stratégiájukat\nAkik konkrét válaszokat keresnek Google hirdetésekkel vagy marketinggel kapcsolatban\nAzokat is\, akik fontolgatják\, hogy érdemes-e belevágni a Google hirdetésekbe\n\nAz esemény rövid (15-30 perces) szakmai útmutatóval indul\, majd interaktív szakmai beszélgetéssel folytatódik\, ahol kérdését felteheti és gyakorlati megoldásokat kaphat. \nIdőpont: 2025. szeptember 24. (szerda) 17:00–18:00 \nHelyszín: TMKIK oktatóterem – Szekszárd\, Arany János u. 23–25.\, 3. emelet \nKlubvezető: Válóczi Károly\, marketing- és üzleti tervező\, vállalkozó fejlesztő \nA találkozó gyakorlatias jellege miatt érdemes laptopot vagy tabletet hoznia magával. \nA rendezvény nyitott minden Tolna vármegyei vállalkozó számára! \nA részvétel díjmentes\, csak előzetes regisztráció szükséges. \nVegyen részt Ön is a Marketing Klub eseményén és tegye hatékonyabbá vállalkozása online marketingjét! \nRegisztráljon most!\n\n  \n  \nA program a Nemzetgazdasági Minisztérium támogatásával a NGM_SZERZ/173/3/2024_TMKIK/1 azonosítószámú projekt keretében valósul meg.
URL:https://tmkik.hu/esemenyek/mitol-mukodnek-jol-a-google-hirdetesek-marketing-klub-szekszardon/
LOCATION:Tolna Vármegyei Kereskedelmi és Iparkamara\, oktatóterem\, Arany János u. 23-25.\, III. emelet\, Szekszárd\, 7100\, Magyarország
CATEGORIES:Marketing Klub eseménye
ATTACH;FMTTYPE=image/png:https://tmkik.hu/wp-content/uploads/2025/09/marketing-klub-szept24-kep.png
END:VEVENT
END:VCALENDAR