BEGIN:VCALENDAR
VERSION:2.0
PRODID:-//Tolna Vármegyei Kereskedelmi és Iparkamara - ECPv6.15.20//NONSGML v1.0//EN
CALSCALE:GREGORIAN
METHOD:PUBLISH
X-ORIGINAL-URL:https://tmkik.hu
X-WR-CALDESC:Események Tolna Vármegyei Kereskedelmi és Iparkamara
REFRESH-INTERVAL;VALUE=DURATION:PT1H
X-Robots-Tag:noindex
X-PUBLISHED-TTL:PT1H
BEGIN:VTIMEZONE
TZID:Europe/Paris
BEGIN:DAYLIGHT
TZOFFSETFROM:+0100
TZOFFSETTO:+0200
TZNAME:CEST
DTSTART:20250330T010000
END:DAYLIGHT
BEGIN:STANDARD
TZOFFSETFROM:+0200
TZOFFSETTO:+0100
TZNAME:CET
DTSTART:20251026T010000
END:STANDARD
BEGIN:DAYLIGHT
TZOFFSETFROM:+0100
TZOFFSETTO:+0200
TZNAME:CEST
DTSTART:20260329T010000
END:DAYLIGHT
BEGIN:STANDARD
TZOFFSETFROM:+0200
TZOFFSETTO:+0100
TZNAME:CET
DTSTART:20261025T010000
END:STANDARD
BEGIN:DAYLIGHT
TZOFFSETFROM:+0100
TZOFFSETTO:+0200
TZNAME:CEST
DTSTART:20270328T010000
END:DAYLIGHT
BEGIN:STANDARD
TZOFFSETFROM:+0200
TZOFFSETTO:+0100
TZNAME:CET
DTSTART:20271031T010000
END:STANDARD
END:VTIMEZONE
BEGIN:VEVENT
DTSTART;TZID=Europe/Paris:20260429T170000
DTEND;TZID=Europe/Paris:20260429T180000
DTSTAMP:20260422T121604
CREATED:20260417T082855Z
LAST-MODIFIED:20260417T082855Z
UID:11413-1777482000-1777485600@tmkik.hu
SUMMARY:Hiába posztol\, kevesen látják? – Építse saját listáját\, ahol mindenki megkapja az üzenetét! - Marketing Klub
DESCRIPTION:A Tolna Vármegyei Kereskedelmi és Iparkamara Marketing Klubjának következő alkalma az e-mail marketing témájára fókuszál. A rendezvény április 29-én\, szerdán 17:00–18:00 között kerül megrendezésre\, gyakorlati tippeket kínálva a vállalkozásoknak. \nIsmerős? \n\nKirakja a Facebook posztot\, de alig látja valaki\n“Hírlevelet kellene küldeni”\, de nem tudja\, hol kezdje\nKipróbálta\, de senki nem iratkozott fel\, vagy feliratkoztak\, de senki nem nyitotta meg a leveleket\n\nA Facebook jön-megy\, az algoritmus változik\, de aki feliratkozott az email listájára\, az mindig az Öné lesz! \nAz áprilisi Marketing Klubban klubunk vezetője Válóczi Károly segít eligazodni: \n\nMiért az email marketing a legstabilabb ügyfélkapcsolati csatorna 2026-ban is\nMelyik hírlevélküldő rendszert válassza (MailerLite\, Salesautopilot\, Webgalamb): melyik mire jó\, és melyikkel éri meg kezdeni\nMilyen típusú emaileket érdemes küldeni\, és melyiket mikor\nHogyan gondolkodjon stratégiában\, ne csak “küldök majd valamit”\n\n  \nNem szükséges\, hogy legyen már listája\, és nem kell hozzá technikai tudás. Aki eljön\, az pontosan tudni fogja\, hogyan kezdje el. \nIdőpont: 2026. április 29. (szerda) 17:00 – 18:00 \nHelyszín: Szekszárd\, TMKIK oktatóterem (Arany János u. 23–25.\, 3. emelet) \nKlubvezető: Válóczi Károly\, marketing- és üzleti tervező\, vállalkozásfejlesztő \nA részvétel díjmentes\, de előzetes regisztrációhoz kötött. \nA jelentkező neve: *A jelentkező e-mail címe: *A jelentkező telefonszáma: *Cég/vállalkozás neve: *Cég/vállalkozás székhelye: *Cég/vállalkozás fő profilja/tevékenysége megnevezése *Jelentkező beosztása a cégben: *Az adatvédelmi tájékoztatót elolvastam\, az abban foglaltakat megértettem. Hozzájárulok\, hogy adatvédelmi tájékoztatóban leírtaknak megfelelően a Tolna Megyei Kereskedelmi és Iparkamara személyes adataimat kezelje.  BeküldésPlease do not fill in this field.
URL:https://tmkik.hu/esemenyek/hiaba-posztol-kevesen-latjak-epitse-sajat-listajat-ahol-mindenki-megkapja-az-uzenetet-marketing-klub/
LOCATION:Tolna Vármegyei Kereskedelmi és Iparkamara\, oktatóterem\, Arany János u. 23-25.\, III. emelet\, Szekszárd\, 7100\, Magyarország
CATEGORIES:Marketing Klub eseménye
END:VEVENT
END:VCALENDAR