BEGIN:VCALENDAR
VERSION:2.0
PRODID:-//Tolna Vármegyei Kereskedelmi és Iparkamara - ECPv6.15.20//NONSGML v1.0//EN
CALSCALE:GREGORIAN
METHOD:PUBLISH
X-WR-CALNAME:Tolna Vármegyei Kereskedelmi és Iparkamara
X-ORIGINAL-URL:https://tmkik.hu
X-WR-CALDESC:Események Tolna Vármegyei Kereskedelmi és Iparkamara
REFRESH-INTERVAL;VALUE=DURATION:PT1H
X-Robots-Tag:noindex
X-PUBLISHED-TTL:PT1H
BEGIN:VTIMEZONE
TZID:Europe/Paris
BEGIN:DAYLIGHT
TZOFFSETFROM:+0100
TZOFFSETTO:+0200
TZNAME:CEST
DTSTART:20250330T010000
END:DAYLIGHT
BEGIN:STANDARD
TZOFFSETFROM:+0200
TZOFFSETTO:+0100
TZNAME:CET
DTSTART:20251026T010000
END:STANDARD
BEGIN:DAYLIGHT
TZOFFSETFROM:+0100
TZOFFSETTO:+0200
TZNAME:CEST
DTSTART:20260329T010000
END:DAYLIGHT
BEGIN:STANDARD
TZOFFSETFROM:+0200
TZOFFSETTO:+0100
TZNAME:CET
DTSTART:20261025T010000
END:STANDARD
BEGIN:DAYLIGHT
TZOFFSETFROM:+0100
TZOFFSETTO:+0200
TZNAME:CEST
DTSTART:20270328T010000
END:DAYLIGHT
BEGIN:STANDARD
TZOFFSETFROM:+0200
TZOFFSETTO:+0100
TZNAME:CET
DTSTART:20271031T010000
END:STANDARD
END:VTIMEZONE
BEGIN:VEVENT
DTSTART;TZID=Europe/Paris:20260428T100000
DTEND;TZID=Europe/Paris:20260428T120000
DTSTAMP:20260422T135308
CREATED:20260421T094756Z
LAST-MODIFIED:20260421T094756Z
UID:11423-1777370400-1777377600@tmkik.hu
SUMMARY:EEN (Enterprise Europe Network) Üzleti Klub – „Irány az indiai piac”\, az indiai piacra fókuszáló webinárium
DESCRIPTION:Az EEN (Enterprise Europe Network) Üzleti Klub – „Irány az indiai piac”\, az indiai piacra fókuszáló webinárium elnevezésű online fóruma\, ahol útmutatást kaphatnak az indiai piacra lépéshez. \nMiért érdemes részt venni? \nAz esemény során átfogó képet kaphat India gazdasági környezetéről\, a szellemi tulajdonvédelem kritikus kérdéseiről és a sikeres üzletkötés módszertanáról. \nProgramterv: \n\n\n\nIDŐPONT\nPROGRAM\nELŐADÓ\nNyelv\n\n\n10:00-10:05\nMegnyitó (HEPA és EEN)\nNagy Anette\nNemzetközi Kapcsolatok Manager (Dél-Ázsia) \nHolly Sára \nEEN irodavezető\nmagyar\n\n\n10:05-10:30\nMiért India? I. \n  \nMiért India? II.\nKovács Tibor \nKülgazdasági attasé\, Mumbai \n  \nKardos Levente \nKülgazdasági attasé\, Újdelhi\nmagyar\n\n\n10:30-11:00\nMegállapodástól az együttműködésig – az India–EU együttműködések gyakorlati mozgatórugói\nDávid Krisztina\nIndológus\, szakértő\nmagyar\n\n\n11:00-11:10\nKérdések – válaszok\nElőadók\nmagyar\n\n\n  \n  \n  \n11:10-11:50 \n \nÜzleti lehetőségek Indiában és szellemi tulajdonvédelem (IPR)\nGBI – Global Business Inroads India\nangol\n\n\nWhat\, Why\, How of Doing Business in India: célágazatok\, jó gyakorlatok új belépőknek\, lehetőségek\, kihívások\, szolgáltatások\, esettanulmányok\nLeena Pishe Thomas\nVezető üzleti tanácsadó (GBI India)\nangol\n\n\nIndia IP SME Helpdesk képzés magyar vállalatok számára\nHarsha Lingam\nSzellemi tulajdonvédelmi szakértő (GBI India)\nangol\n\n\n11:50-12:00\nKérdések – válaszok\nElőadók\nangol\n\n\n\n  \nEsemény részletei: \n\nIdőpont: 2026. április 28. kedd\nIdőtartam: 10:00-12:00 CET\nHelyszín: online\nRegisztráció: https://barinfo.questionpro.com/t/AO5AtZ8aAt\nRegisztráció határideje: 2026. április 26.\n\nRészletek a ide kattintva.
URL:https://tmkik.hu/esemenyek/een-enterprise-europe-network-uzleti-klub-irany-az-indiai-piac-az-indiai-piacra-fokuszalo-webinarium/
CATEGORIES:Tájékoztató fórumok
END:VEVENT
END:VCALENDAR