BEGIN:VCALENDAR
VERSION:2.0
PRODID:-//Tolna Vármegyei Kereskedelmi és Iparkamara - ECPv6.15.20//NONSGML v1.0//EN
CALSCALE:GREGORIAN
METHOD:PUBLISH
X-ORIGINAL-URL:https://tmkik.hu
X-WR-CALDESC:Események Tolna Vármegyei Kereskedelmi és Iparkamara
REFRESH-INTERVAL;VALUE=DURATION:PT1H
X-Robots-Tag:noindex
X-PUBLISHED-TTL:PT1H
BEGIN:VTIMEZONE
TZID:Europe/Paris
BEGIN:DAYLIGHT
TZOFFSETFROM:+0100
TZOFFSETTO:+0200
TZNAME:CEST
DTSTART:20240331T010000
END:DAYLIGHT
BEGIN:STANDARD
TZOFFSETFROM:+0200
TZOFFSETTO:+0100
TZNAME:CET
DTSTART:20241027T010000
END:STANDARD
BEGIN:DAYLIGHT
TZOFFSETFROM:+0100
TZOFFSETTO:+0200
TZNAME:CEST
DTSTART:20250330T010000
END:DAYLIGHT
BEGIN:STANDARD
TZOFFSETFROM:+0200
TZOFFSETTO:+0100
TZNAME:CET
DTSTART:20251026T010000
END:STANDARD
BEGIN:DAYLIGHT
TZOFFSETFROM:+0100
TZOFFSETTO:+0200
TZNAME:CEST
DTSTART:20260329T010000
END:DAYLIGHT
BEGIN:STANDARD
TZOFFSETFROM:+0200
TZOFFSETTO:+0100
TZNAME:CET
DTSTART:20261025T010000
END:STANDARD
END:VTIMEZONE
BEGIN:VEVENT
DTSTART;TZID=Europe/Paris:20251210T090000
DTEND;TZID=Europe/Paris:20251210T110000
DTSTAMP:20260423T154114
CREATED:20251203T122410Z
LAST-MODIFIED:20251218T065309Z
UID:9774-1765357200-1765364400@tmkik.hu
SUMMARY:Profi kreatívok egyszerűen: AI és Canva vállalkozóknak – Kapcsolat & Tudás vállalkozói találkozó Szekszárdon
DESCRIPTION:A profi megjelenés ma már elengedhetetlen a marketingben – és már nem is kell hozzá feltétlen grafikai képzettség. Megmutatjuk\, hogyan készítsen gyorsan\, egyszerűen és költséghatékonyan látványos posztokat\, hirdetéseket és egyéb kreatívanyagokat AI és Canva segítségével. Olyan eszközöket ismerhet meg\, amelyekkel vállalkozása modernebb\, egységesebb és vonzóbb képet mutathat. \nMiért érdemes eljönnie? \n\nMegtudja\, milyen kreatívok működnek manapság\, mi kelti fel a figyelmet és mi vész el a zajban.\nMegismeri\, hogyan használhatja az AI-t és a Canva-t\, előzetes grafikai és technikai tudás nélkül.\nKonkrét példákon keresztül látja\, hogyan készíthet vonzó közösségi média posztokat és hirdetéseket.\nTippeket kap arra\, hogyan teheti vállalkozása online megjelenését modernné.\nKapcsolatokat épít: találkozhat és együtt gondolkodhat más helyi vállalkozókkal.\nInspirációt merít más vállalkozások kreatív megoldásaiból.\n\nA program egy gyakorlati előadással kezdődik\, ahol a résztvevők megismerhetik\, hogyan működik az AI és a Canva a gyakorlatban\, hogyan tudja használni ezeket az eszközöket profi kreatívok készítésére. Ezt követően a vállalkozások röviden bemutatják tevékenységüket\, majd kötetlen beszélgetés és kapcsolatépítés következik kávé és pogácsa mellett. \nProfi kreatívok egyszerűen: AI és Canva vállalkozóknak\nKapcsolat & Tudás vállalkozói találkozó\nIdőpont: 2025. december 10. (szerda)\, 9:00–11:00 \nHelyszín: Szekszárd\, TMKIK Oktatóterem (Arany János u. 23–25.\, III. emelet) \nProgram: \n08:45 – Érkezés\, regisztráció \n09:00 – Köszöntő \n09:05 – A cége üzenete profi köntösben. Készítsen kiváló kreatívokat AI-val és Canva-val! \nElőadó: Válóczi Károly\, marketing- és üzleti tervező-kivitelező \nAmiről szó lesz: Tudja\, mit szeretne üzenni az ügyfeleinek\, de a kreatív anyagok elkészítése gyakran időigényes\, és a végeredmény nem mindig olyan profi\, mint elképzelte? Megmutatjuk\, hogy az AI-eszközök és a Canva hogyan tudják segíteni a munkáját. Az előadáson olyan működő kreatív megoldásokat ismerhet meg\, amelyekkel időt spórol és valóban kiemelik vállalkozását a tömegből. \n10:00 – Résztvevő cégek bemutatkozása\, kapcsolatépítés \n10:20 – Kötetlen beszélgetés kávé és pogácsa mellett \nRészvétel és regisztráció\nA program díjmentes\, csak előzetes regisztrációhoz kötött. \nRegisztrálni az alábbi űrlap kitöltésével lehet 2025. december 9. (kedd) 15:00 óráig. \nJelentkezzen most\, és ismerje meg\, hogyan készíthet látványos\, profi kreatívokat percek alatt – akár egy kávészünet ideje alatt! \n \n  \n  \nA program a Nemzetgazdasági Minisztérium támogatásával a NGM_SZERZ/173/3/2024_TMKIK/1 azonosítószámú projekt keretében valósul meg. \n \n 
URL:https://tmkik.hu/esemenyek/b2b-talalkozo-25-12-10/
LOCATION:Tolna Vármegyei Kereskedelmi és Iparkamara\, oktatóterem\, Arany János u. 23-25.\, III. emelet\, Szekszárd\, 7100\, Magyarország
CATEGORIES:B2B találkozók
ATTACH;FMTTYPE=image/png:https://tmkik.hu/wp-content/uploads/2025/12/canva-ai-kep-12-10.png
END:VEVENT
END:VCALENDAR