BEGIN:VCALENDAR
VERSION:2.0
PRODID:-//Tolna Vármegyei Kereskedelmi és Iparkamara - ECPv6.15.20//NONSGML v1.0//EN
CALSCALE:GREGORIAN
METHOD:PUBLISH
X-ORIGINAL-URL:https://tmkik.hu
X-WR-CALDESC:Események Tolna Vármegyei Kereskedelmi és Iparkamara
REFRESH-INTERVAL;VALUE=DURATION:PT1H
X-Robots-Tag:noindex
X-PUBLISHED-TTL:PT1H
BEGIN:VTIMEZONE
TZID:Europe/Paris
BEGIN:DAYLIGHT
TZOFFSETFROM:+0100
TZOFFSETTO:+0200
TZNAME:CEST
DTSTART:20240331T010000
END:DAYLIGHT
BEGIN:STANDARD
TZOFFSETFROM:+0200
TZOFFSETTO:+0100
TZNAME:CET
DTSTART:20241027T010000
END:STANDARD
BEGIN:DAYLIGHT
TZOFFSETFROM:+0100
TZOFFSETTO:+0200
TZNAME:CEST
DTSTART:20250330T010000
END:DAYLIGHT
BEGIN:STANDARD
TZOFFSETFROM:+0200
TZOFFSETTO:+0100
TZNAME:CET
DTSTART:20251026T010000
END:STANDARD
BEGIN:DAYLIGHT
TZOFFSETFROM:+0100
TZOFFSETTO:+0200
TZNAME:CEST
DTSTART:20260329T010000
END:DAYLIGHT
BEGIN:STANDARD
TZOFFSETFROM:+0200
TZOFFSETTO:+0100
TZNAME:CET
DTSTART:20261025T010000
END:STANDARD
END:VTIMEZONE
BEGIN:VEVENT
DTSTART;TZID=Europe/Paris:20251208T100000
DTEND;TZID=Europe/Paris:20251208T120000
DTSTAMP:20260423T135323
CREATED:20251124T122859Z
LAST-MODIFIED:20251124T122859Z
UID:9675-1765188000-1765195200@tmkik.hu
SUMMARY:Adventi hangolódás - Női Vállalkozó Klub szakmai látogatása a NORESA Panzióban december 8-án
DESCRIPTION:Adventi hangolódás – A Női Vállalkozói Klub szakmai látogatása Szálkán a Noresa Panzióban és adventi kézműves workshop Sipos-Kokauszki Rékával\nIdőpont: 2025. december 8. (hétfő) 10:00–12:00 \nHelyszín: Szálka\, Noresa Panzió és Étterem & Noresa Dekor (7121 Szálka\, Kossuth Lajos u. 68.) \nA Tolna Vármegyei Kereskedelmi és Iparkamara Női Vállalkozói Klubja szeretettel hívja klubtagjait és az érdeklődő női vállalkozókat erre az izgalmas\, közösségi eseményre. \nVendéglátónk Sipos-Kokauszki Réka\, aki férjével\, Sipos Norberttel közösen működteti a sikeres családi vállalkozást\, a Noresa Panzió és Éttermet. Réka háromgyermekes édesanyaként vezeti a panziót\, mellette pedig a Noresa Dekor márkán keresztül egyedi dekorációkat készít és kreatív workshopokat tart. Valódi példája annak\, hogyan lehet nőként egyensúlyt teremteni vállalkozás\, család és kreativitás között. \nMi vár ránk december 8-án? \n\nBepillantás egy sikeres családi vállalkozás mindennapjaiba – Réka személyesen mesél a panzió és étterem működéséről\, a Noresa Dekor útjáról és saját vállalkozói történetéről\nVendéglátás a Noresa Panzióban – kávéval és házi sütivel fogadnak bennünket\nAdventi kézműves workshop – ünnepi asztali díszt készítünk Réka vezetésével\nNői vállalkozói közösségi élmény – kötetlen beszélgetés\, inspiráció\, kapcsolódás női vállalkozókkal egy gyönyörű környezetben\n\nEz az esemény ideális azok számára is\, akik most csatlakoznának a Női Vállalkozói Klubhoz — a program nyitott minden érdeklődő Tolna vármegyei női vállalkozó számára. \nRészvétel és regisztráció\nA részvétel díjmentes\, de előzetes regisztrációhoz kötött! \nA program maximális résztvevői létszáma 15 fő! \nKérjük\, regisztráljon minél korábban! \nCsatlakozzon hozzánk egy különleges adventi délelőttre\, ahol egyszerre inspirálódhat és feltöltődhet a karácsonyi készülődés közepette! \nKreativitás\, közösség\, női vállalkozói lendület – ez vár minden résztvevőt Szálkán. \nRegisztráljon most!\n \n  \n  \n  \n 
URL:https://tmkik.hu/esemenyek/noi-klub-advent-noresa/
LOCATION:Noresa Panzió\, Szálka\, Kossuth L. u. 68.\, Szálka\, Hungary
CATEGORIES:Női Vállalkozói Klub eseménye
ATTACH;FMTTYPE=image/jpeg:https://tmkik.hu/wp-content/uploads/2025/11/noresa-noi-klub-kamara-25-12-kep.jpg
END:VEVENT
END:VCALENDAR