BEGIN:VCALENDAR
VERSION:2.0
PRODID:-//Tolna Vármegyei Kereskedelmi és Iparkamara - ECPv6.15.20//NONSGML v1.0//EN
CALSCALE:GREGORIAN
METHOD:PUBLISH
X-ORIGINAL-URL:https://tmkik.hu
X-WR-CALDESC:Események Tolna Vármegyei Kereskedelmi és Iparkamara
REFRESH-INTERVAL;VALUE=DURATION:PT1H
X-Robots-Tag:noindex
X-PUBLISHED-TTL:PT1H
BEGIN:VTIMEZONE
TZID:Europe/Paris
BEGIN:DAYLIGHT
TZOFFSETFROM:+0100
TZOFFSETTO:+0200
TZNAME:CEST
DTSTART:20240331T010000
END:DAYLIGHT
BEGIN:STANDARD
TZOFFSETFROM:+0200
TZOFFSETTO:+0100
TZNAME:CET
DTSTART:20241027T010000
END:STANDARD
BEGIN:DAYLIGHT
TZOFFSETFROM:+0100
TZOFFSETTO:+0200
TZNAME:CEST
DTSTART:20250330T010000
END:DAYLIGHT
BEGIN:STANDARD
TZOFFSETFROM:+0200
TZOFFSETTO:+0100
TZNAME:CET
DTSTART:20251026T010000
END:STANDARD
BEGIN:DAYLIGHT
TZOFFSETFROM:+0100
TZOFFSETTO:+0200
TZNAME:CEST
DTSTART:20260329T010000
END:DAYLIGHT
BEGIN:STANDARD
TZOFFSETFROM:+0200
TZOFFSETTO:+0100
TZNAME:CET
DTSTART:20261025T010000
END:STANDARD
END:VTIMEZONE
BEGIN:VEVENT
DTSTART;TZID=Europe/Paris:20251201T090000
DTEND;TZID=Europe/Paris:20251201T123000
DTSTAMP:20260423T135322
CREATED:20251117T085845Z
LAST-MODIFIED:20251121T064453Z
UID:9587-1764579600-1764592200@tmkik.hu
SUMMARY:AI – A vállalkozásod új tanácsadója | Mesterséges Intelligencia workshop 2. szint
DESCRIPTION:Haladó AI workshop Szekszárdon | 2025. december 1.\nA mesterséges intelligencia eszközei ma már jóval többet tudnak\, mint posztokat írni\, képeket generálni vagy egyszerűbb adminisztrációs feladatokat támogatni. A vállalkozók egyre gyakrabban használják az AI-t ötletek értékelésére\, döntések előkészítésére vagy éppen piaci információk összegyűjtésére. \nA nagy sikerű\, kezdőknek szóló workshopunk után most a következő szintre lépünk: egy olyan programot kínálunk\, amely megmutatja\, hogyan használhatja az AI-t üzleti tanácsadóként – gyorsan\, hatékonyan és tudatosan. \nFigyelem! Ez a workshop AI haladóknak ajánlott\, azoknak szól\, akik már rendszeresen\, heti szinten használják az AI-t\, de szeretnék mélyebben\, tudatosabban bevonni a vállalkozásuk fejlesztésébe. \nMit kínál a haladó workshop?\nMegmutatjuk a gyakorlatban\, hogyan tudja a mesteséges intelligenciát a mindennapokban vállalkozási tanácsadóként használni.  \n\nAI mint döntéstámogató: Megtanulhatja\, hogyan kérjen az AI-tól releváns visszajelzéseket üzleti ötleteire\, terveire\, fejlesztési irányaira.\nGyors és költséghatékony piackutatás: Megmutatjuk\, hogyan végezhet trendfigyelést\, versenytárselemzést vagy előzetes piackutatást percek alatt – akár több platform és adatforrás kombinálásával.\nElemzés\, értékelés és tervezés: Kipróbálhatja\, hogyan fogalmazzon meg összetettebb kérdéseket\, és hogyan vezesse az AI-t strukturált\, valóban használható eredmény felé.\nTudatosabb AI-használat: Mélyebben belemerülünk olyan eszközökbe\, mint a ChatGPT\, Gemini\, Perplexity vagy a NotebookLM – és megmutatjuk\, melyik mire a leghatékonyabb.\n\nEgy vállalkozónak nap mint nap döntéseket kell hoznia. Sokszor kevés információval\, kevés idővel – és gyakran egyedül. Ez a magányos helyzet ismerős lehet: hiába a támogató környezet\, a valódi dilemmákat kevesen értik igazán. És itt jön képbe a mesterséges intelligencia. Nem lesz lelki társad\, de lehet a mindennapi\, gyorsan elérhető és szinte ingyenes tanácsadód. Olyan eszköz\, amely  \n\npillanatok alatt rengeteg releváns információt szolgáltat\, amelyek segítik a döntéshozatalt\,\nsegít kiértékelni és finomítani az ötleteidet\, döntéseidet\, terveidet.\n\nGyakorlati példákkal ezekre a kérdésekre is kitérünk a workshopon:\n\nVan egy üzleti ötleted\, de jó lenne tudni\, mennyire életképes?\nKellene egy piackutatás\, de se időd\, se pénzed?\nJó lenne látni a piaci trendeket?\nSzeretnél fejlődni\, de nincsenek óráid arra a bizonyos egy mondatra? Esetleg a nyelvtudás hiánya is korlátoz?\nJól jönne\, ha valaki lebontaná napi tennivalókra a céljaidat?\nTudod\, hogy szükség lenne marketingtervre\, de úgy érzed\, ha Rajtad múlik\, sosem lesz?\nAmit nem mérünk\, azon nem tudunk javítani – de nem tudod\, mit kéne mérni?\n\nAz AI természetesen nem váltja ki teljesen a szakértőket\, nem is ez a szerepe\, de gondoljon bele: milyen jó\, hogy van Spotify és nem kell minden alkalommal zenekart hívnia\, ha hiányzik egy kis bugi az irodából… \n\n„AI – A vállalkozásod új tanácsadója”\nGyakorlatias workshop kis- és középvállalkozásoknak\nAI workshop 2. szint! Haladóknak! \nIdőpont: 2025. december 01. 09:00–12:30 \nHelyszín: Szekszárd\, TMKIK oktatóterem (7100 Szekszárd\, Arany János utca 23-25.\, 3. emelet) \nElőadók: Marits István (informatikai szakértő) és Szabó Gábor (kommunikációs szakértő) \n\nRészvétel ingyenes\, de regisztrációhoz kötött!\n\nKis létszám\, személyre szabott figyelem\nAktív részvételhez szükséges: saját laptop vagy tablet\n\n\nNe maradjon le – jelentkezzen most!\n \n  \n  \nA program a Nemzetgazdasági Minisztérium támogatásával a NGM_SZERZ/173/3/2024_TMKIK/1 azonosítószámú projekt keretében valósul meg.
URL:https://tmkik.hu/esemenyek/ai-a-vallalkozasod-uj-tanacsadoja-mesterseges-intelligencia-workshop-2-szint/
LOCATION:Tolna Vármegyei Kereskedelmi és Iparkamara\, oktatóterem\, Arany János u. 23-25.\, III. emelet\, Szekszárd\, 7100\, Magyarország
CATEGORIES:Workshop
ATTACH;FMTTYPE=image/jpeg:https://tmkik.hu/wp-content/uploads/2025/11/ai-workshop-2-25-12-kep.jpg
END:VEVENT
END:VCALENDAR