BEGIN:VCALENDAR
VERSION:2.0
PRODID:-//Tolna Vármegyei Kereskedelmi és Iparkamara - ECPv6.15.20//NONSGML v1.0//EN
CALSCALE:GREGORIAN
METHOD:PUBLISH
X-ORIGINAL-URL:https://tmkik.hu
X-WR-CALDESC:Események Tolna Vármegyei Kereskedelmi és Iparkamara
REFRESH-INTERVAL;VALUE=DURATION:PT1H
X-Robots-Tag:noindex
X-PUBLISHED-TTL:PT1H
BEGIN:VTIMEZONE
TZID:Europe/Paris
BEGIN:DAYLIGHT
TZOFFSETFROM:+0100
TZOFFSETTO:+0200
TZNAME:CEST
DTSTART:20240331T010000
END:DAYLIGHT
BEGIN:STANDARD
TZOFFSETFROM:+0200
TZOFFSETTO:+0100
TZNAME:CET
DTSTART:20241027T010000
END:STANDARD
BEGIN:DAYLIGHT
TZOFFSETFROM:+0100
TZOFFSETTO:+0200
TZNAME:CEST
DTSTART:20250330T010000
END:DAYLIGHT
BEGIN:STANDARD
TZOFFSETFROM:+0200
TZOFFSETTO:+0100
TZNAME:CET
DTSTART:20251026T010000
END:STANDARD
BEGIN:DAYLIGHT
TZOFFSETFROM:+0100
TZOFFSETTO:+0200
TZNAME:CEST
DTSTART:20260329T010000
END:DAYLIGHT
BEGIN:STANDARD
TZOFFSETFROM:+0200
TZOFFSETTO:+0100
TZNAME:CET
DTSTART:20261025T010000
END:STANDARD
END:VTIMEZONE
BEGIN:VEVENT
DTSTART;TZID=Europe/Paris:20251022T090000
DTEND;TZID=Europe/Paris:20251022T110000
DTSTAMP:20260423T171020
CREATED:20251007T113735Z
LAST-MODIFIED:20251121T064800Z
UID:9113-1761123600-1761130800@tmkik.hu
SUMMARY:Többet kevesebből! Új üzleti partnerek\, új marketing tippek -  Ingyenes B2B üzleti találkozó Dombóváron
DESCRIPTION:Találkozzon új üzleti partnerekkel és tudja meg\, hogyan hozza ki a maximumot az online marketingből!\nTöbbet kevesebből: Online marketing tippek kisvállalkozóknak\nIngyenes B2B üzleti találkozó Dombóváron október 22-én!\nEgyre nagyobb kihívást jelent a vállalkozóknak a kapcsolatépítés és az ügyfélszerzés. Ebben segítünk most. Online marketing gyakorlati tippek lesz a dombóvári üzleti találkozónk témája\, ahol kifejezetten azzal a kérdéssel fogunk foglalkozni\, hogyan tudunk kihozni a kevesebből többet. \nA kisvállalkozások komoly előnyre tehetnek szert\, ha tudják\, hogyan hirdessenek okosan és költséghatékonyan az online felületeken. Október 22-i találkozónkon gyakorlati\, azonnal bevethető költséghatékony marketing tippeket kap arra\, hogyan tud többet kihozni kevesebből: hogyan építhet fel profi online jelenlétet\, készíthet vonzó tartalmakat és indíthat sikeres hirdetéseket akár napi pár ezer forintból. \nAz interaktív előadás mellett lehetősége nyílik arra is\, hogy megismerje a környék vállalkozóit\, bemutassa saját cégét és új üzleti kapcsolatokat építsen. A találkozó fontos eleme a B2B üzleti kapcsolatépítés elősegítése\, hogy a Tolnai vármegyei vállalkozások megismerjék egymást és olyan partneri együttműködéseket alakítsanak ki egymással\, amelyek a vállalkozásuk fejlesztése mellett a helyi gazdaságot is előre viszik. Ezek az együttműködések is hozhatnak új ügyfeleket\, nyithatnak új célpiacok felé. \nA találkozóra várjuk azokat is\, akik már részt vettek valamelyik korábbi találkozón és várjuk azokat is\, akik még nem tudtak eljönni\, de most úgy érzik\, itt az ideje\, hogy bővítsék üzleti partnereik és ügyfeleik körét. \nAz eddigi rendezvényeinken résztvevők visszajelzései szerint ez egy jó lehetőség a szakmai fejlődésre és az üzleti kapcsolatépítésre\, Ön se hagyja ki. Jöjjön el\, találkozzon lehetséges új üzleti partnerekkel\, ügyfelekkel\, beszállítókkal és interaktív előadásunkból ismerjen meg hatékony módszereket\, merítsen ötleteket\, hogyan szerezzen új ügyfeleket! \nMiért érdemes Önnek is részt vennie a rendezvényen? \n\nIdőt és pénzt spórol – tippeket kap\, mire érdemes költeni a marketingben\nTöbb ügyfelet érhet el – tudatosabb online megjelenéssel\nKapcsolatokat épít – bemutathatja vállalkozását és találkozhat helyi vállalkozókkal\, partnerekkel\, ügyfelekkel\nÚj üzleti partnerekre tehet szert – kialakíthat új üzleti együttműködéseket.\n\nHogyan zajlik az üzleti találkozó?\nAz üzleti találkozón a vállalkozások fejlesztésében alkalmazható gyakorlatias\, interaktív előadás után a részvevők pár percben bemutatják a vállalkozásukat a többi résztvevőnek\, majd a program további részében a kötetlen beszélgetéshez\, új kapcsolatok építéshez biztosítunk teret kávé és szendvics mellett. \nProgram\nIdőpont: 2025. október 22. szerda 9:00 – 11:00 óra között \nHelyszín: Fregatt Bistro (7200 Dombóvár\, Köztársaság u. 31.) \nProgram \n08:45  Érkezés – Regisztráció \n09:00  Rövid köszöntő \n09:05  Interaktív előadás: Többet kevesebből: online marketing tippek kisvállalkozásoknak \nElőadó: Válóczi Károly\, marketing- és üzleti tervező\, vállalkozó fejlesztő \n09:50  Résztvevő cégek bemutatkozása – KAPCSOLATÉPÍTÉS \n10:20  Kötetlen beszélgetés kávé és teasütemény mellett            \n                 \nA kapcsolatépítő találkozón való részvétel díjmentes\, csak előzetes regisztrációhoz kötött.  \nRegisztrálni az alábbi űrlap kitöltésével és beküldésével tud 2025. október 21. 15:00 óráig. \nHa szeretné\, hogy online marketingje valóban eredményeket hozzon – és közben új partnerekkel is gazdagodna –\, akkor ezt a találkozót nem érdemes kihagynia! \nSzeretettel várjuk Önt is\, regisztráljon most!\n \n\n  \n  \nA program a Nemzetgazdasági Minisztérium támogatásával a NGM_SZERZ/173/3/2024_TMKIK/1 azonosítószámú projekt keretében valósul meg.
URL:https://tmkik.hu/esemenyek/tobbet-kevesebbol-uj-uzleti-partnerek-uj-marketing-tippek-ingyenes-b2b-uzleti-talalkozo/
LOCATION:Fregatt Bistro\, Dombóvár\, Köztársaság út 31/C.\, Dombóvár\, 7200
CATEGORIES:B2B találkozók
ATTACH;FMTTYPE=image/jpeg:https://tmkik.hu/wp-content/uploads/2024/05/b2b-talalkozo-uzleti.jpg
END:VEVENT
BEGIN:VEVENT
DTSTART;TZID=Europe/Paris:20251022T090000
DTEND;TZID=Europe/Paris:20251022T130000
DTSTAMP:20260423T171020
CREATED:20250930T090952Z
LAST-MODIFIED:20251121T064724Z
UID:8991-1761123600-1761138000@tmkik.hu
SUMMARY:Hatékony delegálás a KKV-vezetők gyakorlatában - Tanúsítványt adó gyakorlati képzés (2. alkalom)
DESCRIPTION:A KKV-vezetők mindennapjainak egyik legnagyobb kihívása: hogyan lehet hatékonyan megosztani a feladatokat\, fenntartani a kontrollt\, miközben a munkatársak motiváltak és önállóak maradnak? \nEz a képzés pontosan erre ad gyakorlati megoldásokat. \nMiért érdemes részt vennie a képzésen? \n\nMegtanul világosan és egyértelműen feladatot kiadni\nGyakorlati eszközöket kap az ellenőrzéshez és visszajelzéshez\nFejleszti vezetői magabiztosságát\nTudatosan építheti fel a csapata motivációját és önállóságát\nA képzés végén tanúsítványt kap\nA képzés díjmentes!\n\n\nHatékony delegálás a KKV-vezetők gyakorlatában\nA képzés időtartama összesen 8 óra\, 2 alkalom 4 órában. \nRészvétel: Mindkét alkalmon kötelező a részvétel a képzés teljesítéséhez! \nA képzés időpontja: 2025. október 16. (4 óra) 09.00 – 13.00 és 2025. október 22. (4 óra) 09.00 -13.00 \nHelyszín: Szekszárd\, TMKIK Oktatóterem (7100 Szekszárd\, Arany János u. 23-25. III. emelet) \nVégzettség: Tanúsítvány \nA képzés díjmentes! \nJelentkezési határidő: 2025. október 10. 10 óra \nAkkreditált felnőttképzés\, nyilvántartási szám: E/2021/000039 \n\nA képzés tematikája\nA tréning során 5 fő témakört dolgozunk fel: \n1. A delegálás szerepe a vezetői munkában \n\nMiért kulcsfontosságú a delegálás egy KKV-ban?\nHogyan teremtsünk egyensúlyt a kontroll és a bizalom között?\n\n2. Feladatkiadás alapjai \n\nHogyan adjunk világos\, motiváló és elvégezhető feladatokat?\nCélok\, határidők\, felelősség és keretek meghatározása.\n\n3. Ellenőrzés előkészítése \n\nKontrollpontok és mérföldkövek kialakítása.\nHogyan kerüljük el a túlzott kontrollt?\n\n4. Visszajelzés adása és kommunikáció \n\nHogyan adjunk építő és motiváló visszajelzést?\nSaját tapasztalatainak közös feldolgozása.\n\n5. A delegálás hosszú távú hatása\, gyakorlati integráció \n\nHogyan építsük be a delegálást a mindennapi vezetői rutinba?\nSaját delegálási akcióterv kidolgozása.\n\n\nOktató: Gombos Brigitta senior tréner\, szervezetfejlesztési tanácsadó\, Coach\, Tolna megye Önbizalom Nagykövete \nFő szakterületei: munkaerő motiválás\, megtartás / középvezetők képzése / munkatársi jóllét programok kialakítása / mentor programok kialakítás és működtetése / együttműködés erősítése cégen\, csapaton belül \n\nTanúsítvány: \nA képzésről hivatalos tanúsítványt kap\, aki: \n\nrészt vesz mindkét alkalmon (hiányzás nem megengedett)\,\nteljesíti a gyakorlati feladatot és a záró bemutatót.\n\n\nHa szeretne tudatosabban delegálni\, a csapat teljesítményét növelni és vezetőként magabiztosabban működni\, jelentkezzen most a képzésre! \nJelentkezés:\n \n\n\n  \nA program a Nemzetgazdasági Minisztérium támogatásával a NGM_SZERZ/173/3/2024_TMKIK/1 azonosítószámú projekt keretében valósul meg.
URL:https://tmkik.hu/esemenyek/hatekony-delegalas-kepzes-25-10-22-2/
LOCATION:Tolna Vármegyei Kereskedelmi és Iparkamara\, oktatóterem\, Arany János u. 23-25.\, III. emelet\, Szekszárd\, 7100\, Magyarország
CATEGORIES:Felnőttképzés
ATTACH;FMTTYPE=image/jpeg:https://tmkik.hu/wp-content/uploads/2025/09/feladat-delegalas-kepzes-kep.jpg
END:VEVENT
END:VCALENDAR