BEGIN:VCALENDAR
VERSION:2.0
PRODID:-//Tolna Vármegyei Kereskedelmi és Iparkamara - ECPv6.15.20//NONSGML v1.0//EN
CALSCALE:GREGORIAN
METHOD:PUBLISH
X-WR-CALNAME:Tolna Vármegyei Kereskedelmi és Iparkamara
X-ORIGINAL-URL:https://tmkik.hu
X-WR-CALDESC:Események Tolna Vármegyei Kereskedelmi és Iparkamara
REFRESH-INTERVAL;VALUE=DURATION:PT1H
X-Robots-Tag:noindex
X-PUBLISHED-TTL:PT1H
BEGIN:VTIMEZONE
TZID:Europe/Paris
BEGIN:DAYLIGHT
TZOFFSETFROM:+0100
TZOFFSETTO:+0200
TZNAME:CEST
DTSTART:20240331T010000
END:DAYLIGHT
BEGIN:STANDARD
TZOFFSETFROM:+0200
TZOFFSETTO:+0100
TZNAME:CET
DTSTART:20241027T010000
END:STANDARD
BEGIN:DAYLIGHT
TZOFFSETFROM:+0100
TZOFFSETTO:+0200
TZNAME:CEST
DTSTART:20250330T010000
END:DAYLIGHT
BEGIN:STANDARD
TZOFFSETFROM:+0200
TZOFFSETTO:+0100
TZNAME:CET
DTSTART:20251026T010000
END:STANDARD
BEGIN:DAYLIGHT
TZOFFSETFROM:+0100
TZOFFSETTO:+0200
TZNAME:CEST
DTSTART:20260329T010000
END:DAYLIGHT
BEGIN:STANDARD
TZOFFSETFROM:+0200
TZOFFSETTO:+0100
TZNAME:CET
DTSTART:20261025T010000
END:STANDARD
END:VTIMEZONE
BEGIN:VEVENT
DTSTART;TZID=Europe/Paris:20250813T100000
DTEND;TZID=Europe/Paris:20250813T120000
DTSTAMP:20260423T135302
CREATED:20250729T135715Z
LAST-MODIFIED:20251121T065156Z
UID:8346-1755079200-1755086400@tmkik.hu
SUMMARY:Sikeres konfliktuskezelés a hatékony vállalkozásért - Ingyenes B2B üzleti találkozó
DESCRIPTION:Hozza ki a legtöbbet a vállalkozásából! Sajátítson el olyan eszközöket\, amelyekkel kezelni tudja a konfliktusokat és elősegíti a hatékony együttműködést! \nA belső konfliktusok nemcsak hangulatrombolók\, hanem közvetlenül hátráltatják a cég működését\, döntéshozatalát és eredményességét. Egy elhúzódó feszültség a tulajdonosok\, vezetők vagy csapatok között időt\, pénzt és energiát visz el – sokszor észrevétlenül. Mégis\, a legtöbb vállalkozó eszköztelen ezek kezelésében\, pedig ez kulcsfontosságú vezetői kompetencia. \nÜzleti találkozónkon gyakorlati módszereket mutatunk arra\, hogyan lehet a különböző működésmódokat összehangolni\, a csapatokat újraépíteni\, és a konfliktust növekedésre fordítani. Ráadásul kiváló lehetősége lesz kapcsolatot építeni olyan vállalkozókkal\, akik hasonló kihívásokkal néznek szembe. \nB2B üzleti találkozónk témája ezúttal a sikeres konfliktuskezelés!\nIdőpont: 2025. augusztus 13. szerda 10:00 – 12:00 óra között \nHelyszín: Szekszárd\, TMKIK oktatóterem (7100 Szekszárd\, Arany János utca 23-25. 3. emelet) \nMiért érdemes eljönnie? Miért fontos foglalkoznia egy vállalkozóknak a konfliktuskezeléssel?\nKözvetlen hatása van a cég működésére és eredményére! \n\nEgy tulajdonostársakkal való konfliktus lelassíthatja a döntéshozatalt\, megbéníthatja a növekedést.\nA vezető-beosztott feszültség miatt csökken a motiváció\, a lojalitás\, nő a fluktuáció.\nBelső konfliktusok miatt a csapatmunka szétesik\, ezáltal a projektmegvalósítás is szenved.\n\n→ Aki eljön\, az eszközt kap ahhoz\, hogy jobban menjen az üzlet. \nKevés vállalkozónak van eszköztára az ilyen helyzetek kezelésére! \n\nSokan azt gondolják\, „majd megoldódik” vagy „ez csak személyes ellentét”.\nValójában ezek a helyzetek tudatos kezeléssel orvosolhatók.\n\n→ A résztvevők gyakorlati példákat ismerhetnek meg.  \nMindenki találkozott már nehéz együttműködési helyzettel. \n\nAkár alkalmazottakkal\, akár társsal\, alvállalkozóval vagy ügyféllel – a konfliktus elkerülhetetlen.\nA kérdés az: ki tudja jól kezelni\, és ki veszít rajta.\n\n→ A rendezvény lehetőséget ad reflektálni\, tanulni\, fejlődni. \nKöltséghatékonyabb\, mint egy hibás kiválasztás vagy egy rossz felmondás \n\nEgy meg nem oldott belső feszültség ára: vezetői energia\, idő\, pénz\, új emberek betanítása.\nEgy jól kezelt konfliktus viszont lojalitást\, tisztább szerepeket és jobb teljesítményt hozhat.\n\n→ Egy órás interaktív előadás is akár többszázezres hibáktól óvhatja meg. \nKapcsolatépítési lehetőség hasonló cipőben járó vállalkozókkal \n\nA résztvevők értékes B2B kapcsolatokat is építhetnek\, közvetlen beszélgetéseken keresztül kávé és pogácsa mellett.\n\n→ Aki jön\, az új üzleti kapcsolatokat is szerezhet.  \n  \nAz üzleti találkozó programja: \n09:45  Érkezés – Regisztráció \n10:00  Rövid köszöntő \n10:05  Konfliktusok\, együttműködési elakadások kezelése cégen belül   \nElőadó: Gombos Brigitta\, szervezetfejlesztési tanácsadó és tréner \nAz előadás gyakorlati példákon keresztül mutatja meg\, hogyan ismerhetők fel és oldhatók fel a cégen belüli feszültségek\, amelyek gyakran kimondatlan elvárásokból\, szereptisztázatlanságból vagy generációs különbségekből erednek. Eszközöket ad a hatékonyabb együttműködéshez – hogy a konfliktus ne akadály legyen\, hanem fejlődési lehetőség. \nAz alábbiakról lesz szó: \n\nTipikus együttműködési elakadások\nHogyan lehet kezelni az „ő így szokta” és a „mi így haladnánk” ütközéseit\nMilyen eszközökkel hozhatók össze újra a szétesőben lévő csapatok\nÉs hogyan fordítható a feszültség fejlődésbe\, nem csak túlélésbe\n\n11:05  Résztvevő cégek bemutatkozása – KAPCSOLATÉPÍTÉS \n11:30  Kötetlen beszélgetés\, kapcsolatépítés kávé és pogácsa mellett     \n                 \nA kapcsolatépítő találkozón való részvétel díjmentes\, csak előzetes regisztrációhoz kötött.  \nRegisztrálni az alábbi űrlap kitöltésével és beküldésével tud 2025. augusztus 12. 12:00 óráig. \nMár most írja be a naptárába\, ne hagyja ki a találkozót! \nSzeretettel várjuk Önt is\, regisztráljon most!\n\n  \n  \n  \nA program a Nemzetgazdasági Minisztérium támogatásával a NGM_SZERZ/173/3/2024_TMKIK/1 azonosítószámú projekt keretében valósul meg.
URL:https://tmkik.hu/esemenyek/sikeres-konfliktuskezeles-a-hatekony-vallalkozasert-ingyenes-b2b-uzleti-talalkozo/
LOCATION:Tolna Vármegyei Kereskedelmi és Iparkamara\, oktatóterem\, Arany János u. 23-25.\, III. emelet\, Szekszárd\, 7100\, Magyarország
CATEGORIES:B2B találkozók
ATTACH;FMTTYPE=image/jpeg:https://tmkik.hu/wp-content/uploads/2025/07/uzleti-konfliktuskezeles-kep.jpg
END:VEVENT
END:VCALENDAR