BEGIN:VCALENDAR
VERSION:2.0
PRODID:-//Tolna Vármegyei Kereskedelmi és Iparkamara - ECPv6.15.20//NONSGML v1.0//EN
CALSCALE:GREGORIAN
METHOD:PUBLISH
X-ORIGINAL-URL:https://tmkik.hu
X-WR-CALDESC:Események Tolna Vármegyei Kereskedelmi és Iparkamara
REFRESH-INTERVAL;VALUE=DURATION:PT1H
X-Robots-Tag:noindex
X-PUBLISHED-TTL:PT1H
BEGIN:VTIMEZONE
TZID:UTC
BEGIN:STANDARD
TZOFFSETFROM:+0000
TZOFFSETTO:+0000
TZNAME:UTC
DTSTART:20230101T000000
END:STANDARD
END:VTIMEZONE
BEGIN:VEVENT
DTSTART;TZID=UTC:20240320T090000
DTEND;TZID=UTC:20240320T110000
DTSTAMP:20260420T133419
CREATED:20240311T065130Z
LAST-MODIFIED:20240311T065130Z
UID:3399-1710925200-1710932400@tmkik.hu
SUMMARY:Felkészülés a környezetvédelmi kötelezettségekre – Szakmai nap Bonyhádon
DESCRIPTION:A Tolna Vármegyei Kereskedelmi és Iparkamara szakmai napokat szervez az új hulladék visszaváltási rendszer\, a környezetvédelmi felelősségbiztosítás és ESG – fenntartható vállalkozásműködtetés témakörökben! \nA Tolna Vármegyei Mérnökkamara környezetvédelmi szakértőjének együttműködésével szeretnénk információt nyújtani a MOHU MOL Zrt új visszaváltási rendszeréről\, az önkéntes bekapcsolódási lehetőségről. \nIsmét szót ejtünk a környezetvédelmi felelősségbiztosítási kötelezettségről\, biztosítási szakértők segítségével tekintjük át a feladatokat\, lehetőségeket. Tapasztalataink szerint számos hazai vállalkozás nincs is tisztában az érintettségével\, pedig a kötelezettség 2024. január 1-től már életbe lépett. \nAz ESG\, mint fenntartható vállalkozásszervezés és irányítás a jövő egyik kihívása lehet\, érdemes erre időben felkészülnünk. \n  \nIdőpont – Helyszín\n2024. március 20. 9:00\, Bonyhád \nBonyhád Város Önkormányzata (7150 Bonyhád\, Széchenyi tér 12.\, 1. emeleti tanácsterem) \n  \nProgram\n08:45  Regisztráció \n09:00  Köszöntő \n09:05  Előadás: \nHogyan fog működni a kötelező visszaváltási rendszer? \nKinek és miért kell környezetvédelmi felelősségbiztosítást kötnie? \nMi is az az ESG-rendszer\, mit jelent a fenntartható vállalkozásszervezés és irányítás? \nBaloghné Gaál Zsófia\, Tolna Vármegyei Mérnöki Kamara Környezetvédelmi Szakcsoport\, elnök \n10:35  Konzultáció a Generali Biztosító Zrt. és a Groupama Biztosító Zrt. jelenlévő szakértőivel \n   \nA rendezvényen való részvétel díjmentes\, de előzetes regisztrációhoz kötött\, melyet az alábbi űrlap kitöltésével és beküldésével tehet meg 2024. március 14. 16:00-ig. \nJelentkezési űrlap:\n\n  \n  \nA program a Nemzetgazdasági Minisztérium támogatásával a VF/44/5/2023_TMKIK azonosítószámú projekt keretében valósul meg. \n 
URL:https://tmkik.hu/esemenyek/felkeszules-a-kornyezetvedelmi-kotelezettsegekre-szakmai-nap-bonyhadon/
LOCATION:Bonyhád Város Önkormányzata\, Polgármesteri Hivatal\, Széchényi tér 12.\, 1. emeleti tanácsterem\, Bonyhád\, 7150\, Magyarország
CATEGORIES:Tájékoztató fórumok
ATTACH;FMTTYPE=image/jpeg:https://tmkik.hu/wp-content/uploads/2024/03/kornyezetvedelem-kotelezettsegek-felkeszules.jpg
END:VEVENT
END:VCALENDAR